{
 "currentVersion": 10.91,
 "serviceDescription": "Hosted/DiffElev",
 "name": "Hosted/DiffElev",
 "description": "",
 "extent": {
  "xmin": 6701452.98416,
  "ymin": 1821200.2327800002,
  "xmax": 6702628.15926,
  "ymax": 1822208.9824299999,
  "spatialReference": {
   "wkid": 2874,
   "latestWkid": 2874
  }
 },
 "initialExtent": {
  "xmin": 6701452.98416,
  "ymin": 1821200.2327800002,
  "xmax": 6702628.15926,
  "ymax": 1822208.9824299999,
  "spatialReference": {
   "wkid": 2874,
   "latestWkid": 2874
  }
 },
 "fullExtent": {
  "xmin": 6701452.98416,
  "ymin": 1821200.2327800002,
  "xmax": 6702628.15926,
  "ymax": 1822208.9824299999,
  "spatialReference": {
   "wkid": 2874,
   "latestWkid": 2874
  }
 },
 "hasMultidimensions": false,
 "pixelSizeX": 0.09354999999997166,
 "pixelSizeY": 0.09354999999996877,
 "datasetFormat": "TIFF",
 "uncompressedSize": 541824184,
 "blockWidth": 128,
 "blockHeight": 128,
 "compressionType": "LZW",
 "bandNames": [
  "Band_1"
 ],
 "allowCopy": true,
 "allowAnalysis": true,
 "bandCount": 1,
 "noDataValue": 3.3999999521443642E38,
 "noDataValues": [
  3.3999999521443642E38
 ],
 "pixelType": "F32",
 "minPixelSize": 0,
 "maxPixelSize": 0,
 "copyrightText": "",
 "serviceDataType": "esriImageServiceDataTypeGeneric",
 "serviceSourceType": "esriImageServiceSourceTypeDataset",
 "minValues": [
  -42.561645507812
 ],
 "maxValues": [
  34.437561035156
 ],
 "meanValues": [
  3.9257705714052
 ],
 "stdvValues": [
  7.8683336751655
 ],
 "objectIdField": "",
 "fields": [],
 "capabilities": "Image, Metadata, Mensuration",
 "defaultMosaicMethod": "Center",
 "allowedMosaicMethods": "",
 "sortField": "",
 "sortValue": null,
 "sortAscending": true,
 "mosaicOperator": "First",
 "defaultCompressionQuality": 75,
 "defaultResamplingMethod": "Bilinear",
 "maxImageHeight": 4100,
 "maxImageWidth": 15000,
 "allowRasterFunction": true,
 "rasterFunctionInfos": [
  {
   "name": "None",
   "description": "",
   "help": ""
  }
 ],
 "rasterTypeInfos": [
  {
   "name": "Raster Dataset",
   "description": "Compatible con todos los datasets de rĂ¡steres de ArcGIS",
   "help": ""
  }
 ],
 "mensurationCapabilities": "Basic",
 "hasHistograms": false,
 "hasColormap": false,
 "hasRasterAttributeTable": false,
 "minScale": 0,
 "maxScale": 0,
 "exportTilesAllowed": false,
 "supportsStatistics": false,
 "supportsAdvancedQueries": false,
 "editFieldsInfo": null,
 "ownershipBasedAccessControlForRasters": null,
 "allowComputeTiePoints": false,
 "useStandardizedQueries": true,
 "advancedQueryCapabilities": {
  "useStandardizedQueries": true,
  "supportsStatistics": false,
  "supportsOrderBy": false,
  "supportsDistinct": false,
  "supportsPagination": false
 },
 "spatialReference": {
  "wkid": 2874,
  "latestWkid": 2874
 }
}
