{
 "currentVersion": 10.91,
 "serviceDescription": "Hosted/K9DTM_1_Digital_Terrain_Model",
 "name": "Hosted/K9DTM_1_Digital_Terrain_Model",
 "description": "",
 "extent": {
  "xmin": 450261.7866468433,
  "ymin": 3761844.613414255,
  "xmax": 450578.8085344879,
  "ymax": 3762115.457604385,
  "spatialReference": {
   "wkid": 32611,
   "latestWkid": 32611
  }
 },
 "initialExtent": {
  "xmin": 450261.7866468433,
  "ymin": 3761844.613414255,
  "xmax": 450578.8085344879,
  "ymax": 3762115.457604385,
  "spatialReference": {
   "wkid": 32611,
   "latestWkid": 32611
  }
 },
 "fullExtent": {
  "xmin": 450261.7866468433,
  "ymin": 3761844.613414255,
  "xmax": 450578.8085344879,
  "ymax": 3762115.457604385,
  "spatialReference": {
   "wkid": 32611,
   "latestWkid": 32611
  }
 },
 "hasMultidimensions": false,
 "pixelSizeX": 0.07496379466649362,
 "pixelSizeY": 0.07496379466648498,
 "datasetFormat": "TIFF",
 "uncompressedSize": 61117508,
 "blockWidth": 128,
 "blockHeight": 128,
 "compressionType": "LZW",
 "bandNames": [
  "Band_1"
 ],
 "allowCopy": true,
 "allowAnalysis": true,
 "bandCount": 1,
 "noDataValue": 3.3999999521443642E38,
 "noDataValues": [
  3.3999999521443642E38
 ],
 "pixelType": "F32",
 "minPixelSize": 0,
 "maxPixelSize": 0,
 "copyrightText": "",
 "serviceDataType": "esriImageServiceDataTypeGeneric",
 "serviceSourceType": "esriImageServiceSourceTypeDataset",
 "minValues": [
  222.97282409668
 ],
 "maxValues": [
  229.8671875
 ],
 "meanValues": [
  227.06815629052
 ],
 "stdvValues": [
  1.4816031885111
 ],
 "objectIdField": "",
 "fields": [],
 "capabilities": "Image, Metadata, Mensuration",
 "defaultMosaicMethod": "Center",
 "allowedMosaicMethods": "",
 "sortField": "",
 "sortValue": null,
 "sortAscending": true,
 "mosaicOperator": "First",
 "defaultCompressionQuality": 75,
 "defaultResamplingMethod": "Bilinear",
 "maxImageHeight": 4100,
 "maxImageWidth": 15000,
 "allowRasterFunction": true,
 "rasterFunctionInfos": [
  {
   "name": "None",
   "description": "",
   "help": ""
  }
 ],
 "rasterTypeInfos": [
  {
   "name": "Raster Dataset",
   "description": "Compatible con todos los datasets de rĂ¡steres de ArcGIS",
   "help": ""
  }
 ],
 "mensurationCapabilities": "Basic",
 "hasHistograms": false,
 "hasColormap": false,
 "hasRasterAttributeTable": false,
 "minScale": 0,
 "maxScale": 0,
 "exportTilesAllowed": false,
 "supportsStatistics": false,
 "supportsAdvancedQueries": false,
 "editFieldsInfo": null,
 "ownershipBasedAccessControlForRasters": null,
 "allowComputeTiePoints": false,
 "useStandardizedQueries": true,
 "advancedQueryCapabilities": {
  "useStandardizedQueries": true,
  "supportsStatistics": false,
  "supportsOrderBy": false,
  "supportsDistinct": false,
  "supportsPagination": false
 },
 "spatialReference": {
  "wkid": 32611,
  "latestWkid": 32611
 }
}
