{
 "currentVersion": 10.91,
 "serviceDescription": "Hosted/Landsat8_Multiespectral_L1_Michoacan_080322",
 "name": "Hosted/Landsat8_Multiespectral_L1_Michoacan_080322",
 "description": "",
 "extent": {
  "xmin": -1.1498832130334325E7,
  "ymin": 2005249.2271178109,
  "xmax": -1.1256942130334325E7,
  "ymax": 2253889.227117811,
  "spatialReference": {
   "wkid": 102100,
   "latestWkid": 3857
  }
 },
 "initialExtent": {
  "xmin": -1.1498832130334325E7,
  "ymin": 2005249.2271178109,
  "xmax": -1.1256942130334325E7,
  "ymax": 2253889.227117811,
  "spatialReference": {
   "wkid": 102100,
   "latestWkid": 3857
  }
 },
 "fullExtent": {
  "xmin": -1.1498832130334325E7,
  "ymin": 2005249.2271178109,
  "xmax": -1.1256942130334325E7,
  "ymax": 2253889.227117811,
  "spatialReference": {
   "wkid": 102100,
   "latestWkid": 3857
  }
 },
 "hasMultidimensions": false,
 "pixelSizeX": 30,
 "pixelSizeY": 30,
 "datasetFormat": "Cache/LERC2D",
 "uncompressedSize": 1069218304,
 "blockWidth": 256,
 "blockHeight": 256,
 "compressionType": "LERC2D",
 "bandNames": [
  "CoastalAerosol",
  "Blue",
  "Green",
  "Red",
  "NearInfrared",
  "ShortWaveInfrared_1",
  "ShortWaveInfrared_2",
  "Cirrus"
 ],
 "allowCopy": true,
 "allowAnalysis": true,
 "bandCount": 8,
 "noDataValue": 65536,
 "noDataValues": [
  65536,
  65536,
  65536,
  65536,
  65536,
  65536,
  65536,
  65536
 ],
 "pixelType": "U16",
 "minPixelSize": 0,
 "maxPixelSize": 0,
 "copyrightText": "",
 "serviceDataType": "esriImageServiceDataTypeGeneric",
 "serviceSourceType": "esriImageServiceSourceTypeDataset",
 "minValues": [
  0,
  0,
  0,
  0,
  0,
  0,
  0,
  0
 ],
 "maxValues": [
  65535,
  65535,
  65535,
  65535,
  65535,
  65535,
  65535,
  65535
 ],
 "meanValues": [
  40504.79356515176,
  38572.96642924974,
  35147.979948618966,
  34643.16316984299,
  42397.169603832495,
  42426.67192870961,
  41026.7470541806,
  42188.81951845324
 ],
 "stdvValues": [
  9503.613271409115,
  9715.543949904406,
  10950.280510074977,
  12850.345233075343,
  11703.77324798882,
  12831.426102839387,
  12586.090507679372,
  6504.196572555864
 ],
 "objectIdField": "",
 "fields": [],
 "capabilities": "Image, Metadata",
 "defaultMosaicMethod": "Center",
 "allowedMosaicMethods": "",
 "sortField": "",
 "sortValue": null,
 "sortAscending": true,
 "mosaicOperator": "First",
 "defaultCompressionQuality": 75,
 "defaultResamplingMethod": "Nearest",
 "maxImageHeight": 4100,
 "maxImageWidth": 15000,
 "singleFusedMapCache": true,
 "tileInfo": {
  "rows": 256,
  "cols": 256,
  "dpi": 96,
  "format": "LERC2D",
  "compressionQuality": 100000,
  "lercError": 0.1,
  "origin": {
   "x": -1.1498832130334325E7,
   "y": 2253889.227117811
  },
  "spatialReference": {
   "wkid": 102100,
   "latestWkid": 3857
  },
  "lods": [
   {
    "level": 0,
    "resolution": 960,
    "scale": 3628339.1999999997
   },
   {
    "level": 1,
    "resolution": 480,
    "scale": 1814169.5999999999
   },
   {
    "level": 2,
    "resolution": 240,
    "scale": 907084.7999999999
   },
   {
    "level": 3,
    "resolution": 120,
    "scale": 453542.39999999997
   },
   {
    "level": 4,
    "resolution": 60,
    "scale": 226771.19999999998
   },
   {
    "level": 5,
    "resolution": 30,
    "scale": 113385.59999999999
   }
  ]
 },
 "storageInfo": {
  "storageFormat": "esriMapCacheStorageModeCompactV2",
  "packetSize": 8
 },
 "cacheType": "Raster",
 "allowRasterFunction": true,
 "rasterFunctionInfos": [
  {
   "name": "None",
   "description": "",
   "help": ""
  }
 ],
 "rasterTypeInfos": [
  {
   "name": "Raster Dataset",
   "description": "Compatible con todos los datasets de rĂ¡steres de ArcGIS",
   "help": ""
  }
 ],
 "mensurationCapabilities": "Basic,Base-Top Shadow Height",
 "hasHistograms": true,
 "hasColormap": false,
 "hasRasterAttributeTable": false,
 "minScale": 0,
 "maxScale": 0,
 "exportTilesAllowed": false,
 "supportsStatistics": false,
 "supportsAdvancedQueries": false,
 "editFieldsInfo": null,
 "ownershipBasedAccessControlForRasters": null,
 "allowComputeTiePoints": false,
 "useStandardizedQueries": true,
 "advancedQueryCapabilities": {
  "useStandardizedQueries": true,
  "supportsStatistics": false,
  "supportsOrderBy": false,
  "supportsDistinct": false,
  "supportsPagination": false
 },
 "spatialReference": {
  "wkid": 102100,
  "latestWkid": 3857
 }
}
