{
 "cimVersion": "3.0.0",
 "serviceDescription": "",
 "mapName": "Map",
 "description": "",
 "copyrightText": "",
 "supportsDynamicLayers": false,
 "layers": [
  {
   "id": 0,
   "name": "MakeRas_ndvi_201",
   "parentLayerId": -1,
   "defaultVisibility": true,
   "subLayerIds": null,
   "minScale": 0,
   "maxScale": 0,
   "type": "Raster Layer",
   "supportsDynamicLegends": true
  }
 ],
 "tables": [],
 "spatialReference": {
  "wkt": "PROJCS[\"GRS_1980_IUGG_1980_Albers\",GEOGCS[\"GCS_GRS_1980_IUGG_1980\",DATUM[\"D_unknown\",SPHEROID[\"GRS80\",6378137.0,298.257222101]],PRIMEM[\"Greenwich\",0.0],UNIT[\"Degree\",0.0174532925199433]],PROJECTION[\"Albers\"],PARAMETER[\"false_easting\",2500000.0],PARAMETER[\"false_northing\",0.0],PARAMETER[\"central_meridian\",-102.0],PARAMETER[\"standard_parallel_1\",17.5],PARAMETER[\"standard_parallel_2\",29.5],PARAMETER[\"latitude_of_origin\",12.0],UNIT[\"Meter\",1.0]]",
  "xyTolerance": 0.001,
  "zTolerance": 0.001,
  "mTolerance": 0.001,
  "falseX": -18720600,
  "falseY": -6444400,
  "xyUnits": 10000,
  "falseZ": -100000,
  "zUnits": 10000,
  "falseM": -100000,
  "mUnits": 10000
 },
 "singleFusedMapCache": true,
 "tileInfo": {
  "rows": 256,
  "cols": 256,
  "dpi": 96,
  "format": "Mixed",
  "compressionQuality": 75,
  "origin": {
   "x": -1.872046020767279E7,
   "y": 2.444130795828044E7
  },
  "spatialReference": {
   "wkt": "PROJCS[\"GRS_1980_IUGG_1980_Albers\",GEOGCS[\"GCS_GRS_1980_IUGG_1980\",DATUM[\"D_unknown\",SPHEROID[\"GRS80\",6378137.0,298.257222101]],PRIMEM[\"Greenwich\",0.0],UNIT[\"Degree\",0.0174532925199433]],PROJECTION[\"Albers\"],PARAMETER[\"false_easting\",2500000.0],PARAMETER[\"false_northing\",0.0],PARAMETER[\"central_meridian\",-102.0],PARAMETER[\"standard_parallel_1\",17.5],PARAMETER[\"standard_parallel_2\",29.5],PARAMETER[\"latitude_of_origin\",12.0],UNIT[\"Meter\",1.0]]",
   "xyTolerance": 0.001,
   "zTolerance": 0.001,
   "mTolerance": 0.001,
   "falseX": -18720600,
   "falseY": -6444400,
   "xyUnits": 10000,
   "falseZ": -100000,
   "zUnits": 10000,
   "falseM": -100000,
   "mUnits": 10000
  },
  "lods": [
   {
    "level": 0,
    "resolution": 165784.84537244408,
    "scale": 6.265883919588437E8
   },
   {
    "level": 1,
    "resolution": 82892.42268622204,
    "scale": 3.1329419597942185E8
   },
   {
    "level": 2,
    "resolution": 41446.21134311102,
    "scale": 1.5664709798971093E8
   },
   {
    "level": 3,
    "resolution": 20723.10567155551,
    "scale": 7.832354899485546E7
   },
   {
    "level": 4,
    "resolution": 10361.552835777755,
    "scale": 3.916177449742773E7
   },
   {
    "level": 5,
    "resolution": 5180.776417888877,
    "scale": 1.9580887248713866E7
   },
   {
    "level": 6,
    "resolution": 2590.3882089444387,
    "scale": 9790443.624356933
   },
   {
    "level": 7,
    "resolution": 1295.1941044722194,
    "scale": 4895221.8121784665
   },
   {
    "level": 8,
    "resolution": 647.5970522361097,
    "scale": 2447610.9060892332
   },
   {
    "level": 9,
    "resolution": 323.79852611805484,
    "scale": 1223805.4530446166
   },
   {
    "level": 10,
    "resolution": 161.89926305902742,
    "scale": 611902.7265223083
   },
   {
    "level": 11,
    "resolution": 80.94963152951371,
    "scale": 305951.36326115415
   },
   {
    "level": 12,
    "resolution": 40.474815764756855,
    "scale": 152975.68163057708
   },
   {
    "level": 13,
    "resolution": 20.237407882378427,
    "scale": 76487.84081528854
   },
   {
    "level": 14,
    "resolution": 10.118703941189214,
    "scale": 38243.92040764427
   },
   {
    "level": 15,
    "resolution": 5.059351970594607,
    "scale": 19121.960203822135
   },
   {
    "level": 16,
    "resolution": 2.5296759852973034,
    "scale": 9560.980101911067
   },
   {
    "level": 17,
    "resolution": 1.2648379926486517,
    "scale": 4780.490050955534
   },
   {
    "level": 18,
    "resolution": 0.6324189963243259,
    "scale": 2390.245025477767
   }
  ]
 },
 "storageInfo": {
  "storageFormat": "esriMapCacheStorageModeCompactV2",
  "packetSize": 128
 },
 "initialExtent": {
  "xmin": 2590045.411089866,
  "ymin": 710113.2289674953,
  "xmax": 2943983.0305927335,
  "ymax": 967925.7289674953,
  "spatialReference": {
   "wkt": "PROJCS[\"GRS_1980_IUGG_1980_Albers\",GEOGCS[\"GCS_GRS_1980_IUGG_1980\",DATUM[\"D_unknown\",SPHEROID[\"GRS80\",6378137.0,298.257222101]],PRIMEM[\"Greenwich\",0.0],UNIT[\"Degree\",0.0174532925199433]],PROJECTION[\"Albers\"],PARAMETER[\"false_easting\",2500000.0],PARAMETER[\"false_northing\",0.0],PARAMETER[\"central_meridian\",-102.0],PARAMETER[\"standard_parallel_1\",17.5],PARAMETER[\"standard_parallel_2\",29.5],PARAMETER[\"latitude_of_origin\",12.0],UNIT[\"Meter\",1.0]]",
   "xyTolerance": 0.001,
   "zTolerance": 0.001,
   "mTolerance": 0.001,
   "falseX": -18720600,
   "falseY": -6444400,
   "xyUnits": 10000,
   "falseZ": -100000,
   "zUnits": 10000,
   "falseM": -100000,
   "mUnits": 10000
  }
 },
 "fullExtent": {
  "xmin": 2700000,
  "ymin": 750000,
  "xmax": 2850000,
  "ymax": 900000,
  "spatialReference": {
   "wkt": "PROJCS[\"GRS_1980_IUGG_1980_Albers\",GEOGCS[\"GCS_GRS_1980_IUGG_1980\",DATUM[\"D_unknown\",SPHEROID[\"GRS80\",6378137.0,298.257222101]],PRIMEM[\"Greenwich\",0.0],UNIT[\"Degree\",0.0174532925199433]],PROJECTION[\"Albers\"],PARAMETER[\"false_easting\",2500000.0],PARAMETER[\"false_northing\",0.0],PARAMETER[\"central_meridian\",-102.0],PARAMETER[\"standard_parallel_1\",17.5],PARAMETER[\"standard_parallel_2\",29.5],PARAMETER[\"latitude_of_origin\",12.0],UNIT[\"Meter\",1.0]]",
   "xyTolerance": 0.001,
   "zTolerance": 0.001,
   "mTolerance": 0.001,
   "falseX": -18720600,
   "falseY": -6444400,
   "xyUnits": 10000,
   "falseZ": -100000,
   "zUnits": 10000,
   "falseM": -100000,
   "mUnits": 10000
  }
 },
 "datesInUnknownTimezone": false,
 "units": "esriMeters",
 "supportedImageFormatTypes": "PNG32,PNG24,PNG,JPG,DIB,TIFF,EMF,PS,PDF,GIF,SVG,SVGZ,BMP",
 "documentInfo": {
  "Title": "C:\\Users\\Administrador\\AppData\\Local\\Temp\\ArcGISProTemp30364\\bfd9544a-a87c-4512-a1e1-1351b73a134a\\Untitled.aprx",
  "Author": "",
  "Comments": "",
  "Subject": "",
  "Category": "",
  "Version": "2.9.0",
  "AntialiasingMode": "None",
  "TextAntialiasingMode": "Force",
  "Keywords": ""
 },
 "supportedQueryFormats": "JSON, geoJSON, PBF",
 "referenceScale": 0.0,
 "supportsDatumTransformation": true,
 "archivingInfo": {
  "supportsHistoricMoment": false
 },
 "supportsClipping": true,
 "supportsSpatialFilter": true,
 "supportsTimeRelation": true,
 "supportsQueryDataElements": true,
 "maxRecordCount": 1000,
 "maxImageHeight": 4096,
 "maxImageWidth": 4096,
 "currentVersion": 12.9,
 "capabilities": "TilesOnly,Tilemap",
 "minScale": 9790443.624356933,
 "maxScale": 2390.245025477767,
 "exportTilesAllowed": false,
 "maxExportTilesCount": 100000,
 "minLOD": 6,
 "maxLOD": 18,
 "supportedExtensions": "",
 "serviceItemId": "8c3eafd83958476aa1875907e0cab405"
}
