{
 "currentVersion": 10.91,
 "serviceDescription": "Hosted/Ortofotos_4_6cm_Pachuca_Hidalgo_ok",
 "name": "Hosted/Ortofotos_4_6cm_Pachuca_Hidalgo_ok",
 "description": "",
 "extent": {
  "xmin": -1.0991467390861293E7,
  "ymin": 2287715.882219095,
  "xmax": -1.0990446982564293E7,
  "ymax": 2288415.0867820946,
  "spatialReference": {
   "wkid": 102100,
   "latestWkid": 3857
  }
 },
 "initialExtent": {
  "xmin": -1.0991467390861293E7,
  "ymin": 2287715.882219095,
  "xmax": -1.0990446982564293E7,
  "ymax": 2288415.0867820946,
  "spatialReference": {
   "wkid": 102100,
   "latestWkid": 3857
  }
 },
 "fullExtent": {
  "xmin": -1.0991467390861293E7,
  "ymin": 2287715.882219095,
  "xmax": -1.0990446982564293E7,
  "ymax": 2288415.0867820946,
  "spatialReference": {
   "wkid": 102100,
   "latestWkid": 3857
  }
 },
 "hasMultidimensions": false,
 "pixelSizeX": 0.04617650000002049,
 "pixelSizeY": 0.04617649999998506,
 "datasetFormat": "Cache/LERC2D",
 "uncompressedSize": 1338343272,
 "blockWidth": 256,
 "blockHeight": 256,
 "compressionType": "LERC2D",
 "bandNames": [
  "Band_1",
  "Band_2",
  "Band_3",
  "Band_4"
 ],
 "allowCopy": true,
 "allowAnalysis": true,
 "bandCount": 4,
 "noDataValue": 0,
 "noDataValues": [
  0,
  0,
  0,
  0
 ],
 "pixelType": "U8",
 "minPixelSize": 0,
 "maxPixelSize": 0,
 "copyrightText": "",
 "serviceDataType": "esriImageServiceDataTypeGeneric",
 "serviceSourceType": "esriImageServiceSourceTypeDataset",
 "minValues": [
  0,
  0,
  0,
  255
 ],
 "maxValues": [
  255,
  255,
  255,
  255
 ],
 "meanValues": [
  157.50031813945782,
  145.90456701406634,
  141.55872139181625,
  255
 ],
 "stdvValues": [
  45.577344084368846,
  50.37152350265817,
  50.8477428414199,
  0
 ],
 "objectIdField": "",
 "fields": [],
 "capabilities": "Image, Metadata",
 "defaultMosaicMethod": "Center",
 "allowedMosaicMethods": "",
 "sortField": "",
 "sortValue": null,
 "sortAscending": true,
 "mosaicOperator": "First",
 "defaultCompressionQuality": 75,
 "defaultResamplingMethod": "Bicubic",
 "maxImageHeight": 4100,
 "maxImageWidth": 15000,
 "singleFusedMapCache": true,
 "tileInfo": {
  "rows": 256,
  "cols": 256,
  "dpi": 96,
  "format": "LERC2D",
  "compressionQuality": 100000,
  "lercError": 0.1,
  "origin": {
   "x": -1.0991467390861293E7,
   "y": 2288415.0867820946
  },
  "spatialReference": {
   "wkid": 102100,
   "latestWkid": 3857
  },
  "lods": [
   {
    "level": 0,
    "resolution": 2.955295999999044,
    "scale": 11169.600337916387
   },
   {
    "level": 1,
    "resolution": 1.477647999999522,
    "scale": 5584.800168958193
   },
   {
    "level": 2,
    "resolution": 0.738823999999761,
    "scale": 2792.4000844790967
   },
   {
    "level": 3,
    "resolution": 0.3694119999998805,
    "scale": 1396.2000422395483
   },
   {
    "level": 4,
    "resolution": 0.18470599999994025,
    "scale": 698.1000211197742
   },
   {
    "level": 5,
    "resolution": 0.09235299999997013,
    "scale": 349.0500105598871
   },
   {
    "level": 6,
    "resolution": 0.04617649999998506,
    "scale": 174.52500527994354
   }
  ]
 },
 "storageInfo": {
  "storageFormat": "esriMapCacheStorageModeCompactV2",
  "packetSize": 16
 },
 "cacheType": "Raster",
 "allowRasterFunction": true,
 "rasterFunctionInfos": [
  {
   "name": "None",
   "description": "",
   "help": ""
  }
 ],
 "rasterTypeInfos": [
  {
   "name": "Raster Dataset",
   "description": "Compatible con todos los datasets de rĂ¡steres de ArcGIS",
   "help": ""
  }
 ],
 "mensurationCapabilities": "Basic",
 "hasHistograms": true,
 "hasColormap": false,
 "hasRasterAttributeTable": false,
 "minScale": 0,
 "maxScale": 0,
 "exportTilesAllowed": false,
 "supportsStatistics": false,
 "supportsAdvancedQueries": false,
 "editFieldsInfo": null,
 "ownershipBasedAccessControlForRasters": null,
 "allowComputeTiePoints": false,
 "useStandardizedQueries": true,
 "advancedQueryCapabilities": {
  "useStandardizedQueries": true,
  "supportsStatistics": false,
  "supportsOrderBy": false,
  "supportsDistinct": false,
  "supportsPagination": false
 },
 "spatialReference": {
  "wkid": 102100,
  "latestWkid": 3857
 }
}
