{
 "currentVersion": 10.91,
 "serviceDescription": "Hosted/Ortofotos_Dron_2cm_RealdelCastilloNuevo_BC_ok",
 "name": "Hosted/Ortofotos_Dron_2cm_RealdelCastilloNuevo_BC_ok",
 "description": "",
 "extent": {
  "xmin": -1.2942905752823502E7,
  "ymin": 3750369.80135133,
  "xmax": -1.2942246141473502E7,
  "ymax": 3751166.9339613295,
  "spatialReference": {
   "wkid": 102100,
   "latestWkid": 3857
  }
 },
 "initialExtent": {
  "xmin": -1.2942905752823502E7,
  "ymin": 3750369.80135133,
  "xmax": -1.2942246141473502E7,
  "ymax": 3751166.9339613295,
  "spatialReference": {
   "wkid": 102100,
   "latestWkid": 3857
  }
 },
 "fullExtent": {
  "xmin": -1.2942905752823502E7,
  "ymin": 3750369.80135133,
  "xmax": -1.2942246141473502E7,
  "ymax": 3751166.9339613295,
  "spatialReference": {
   "wkid": 102100,
   "latestWkid": 3857
  }
 },
 "hasMultidimensions": false,
 "pixelSizeX": 0.020969999999996967,
 "pixelSizeY": 0.020969999999993123,
 "datasetFormat": "Cache/LERC2D",
 "uncompressedSize": 4782795660,
 "blockWidth": 256,
 "blockHeight": 256,
 "compressionType": "LERC2D",
 "bandNames": [
  "Band_1",
  "Band_2",
  "Band_3",
  "Band_4"
 ],
 "allowCopy": true,
 "allowAnalysis": true,
 "bandCount": 4,
 "noDataValue": -10000,
 "noDataValues": [
  -10000,
  -10000,
  -10000,
  -10000
 ],
 "pixelType": "U8",
 "minPixelSize": 0,
 "maxPixelSize": 0,
 "copyrightText": "",
 "serviceDataType": "esriImageServiceDataTypeGeneric",
 "serviceSourceType": "esriImageServiceSourceTypeDataset",
 "minValues": [
  0,
  0,
  0,
  255
 ],
 "maxValues": [
  255,
  255,
  255,
  255
 ],
 "meanValues": [
  162.07117771004647,
  147.32449318221958,
  127.8167976681992,
  255
 ],
 "stdvValues": [
  50.81298855005054,
  46.384648348732014,
  41.26262850476326,
  0
 ],
 "objectIdField": "",
 "fields": [],
 "capabilities": "Image, Metadata",
 "defaultMosaicMethod": "Center",
 "allowedMosaicMethods": "",
 "sortField": "",
 "sortValue": null,
 "sortAscending": true,
 "mosaicOperator": "First",
 "defaultCompressionQuality": 75,
 "defaultResamplingMethod": "Bicubic",
 "maxImageHeight": 4100,
 "maxImageWidth": 15000,
 "singleFusedMapCache": true,
 "tileInfo": {
  "rows": 256,
  "cols": 256,
  "dpi": 96,
  "format": "LERC2D",
  "compressionQuality": 100000,
  "lercError": 0.1,
  "origin": {
   "x": -1.2942905752823502E7,
   "y": 3751166.9339613295
  },
  "spatialReference": {
   "wkid": 102100,
   "latestWkid": 3857
  },
  "lods": [
   {
    "level": 0,
    "resolution": 2.6841599999991197,
    "scale": 10144.836403196672
   },
   {
    "level": 1,
    "resolution": 1.3420799999995598,
    "scale": 5072.418201598336
   },
   {
    "level": 2,
    "resolution": 0.6710399999997799,
    "scale": 2536.209100799168
   },
   {
    "level": 3,
    "resolution": 0.33551999999988996,
    "scale": 1268.104550399584
   },
   {
    "level": 4,
    "resolution": 0.16775999999994498,
    "scale": 634.052275199792
   },
   {
    "level": 5,
    "resolution": 0.08387999999997249,
    "scale": 317.026137599896
   },
   {
    "level": 6,
    "resolution": 0.041939999999986245,
    "scale": 158.513068799948
   },
   {
    "level": 7,
    "resolution": 0.020969999999993123,
    "scale": 79.256534399974
   }
  ]
 },
 "storageInfo": {
  "storageFormat": "esriMapCacheStorageModeCompactV2",
  "packetSize": 16
 },
 "cacheType": "Raster",
 "allowRasterFunction": true,
 "rasterFunctionInfos": [
  {
   "name": "None",
   "description": "",
   "help": ""
  }
 ],
 "rasterTypeInfos": [
  {
   "name": "Raster Dataset",
   "description": "Compatible con todos los datasets de rĂ¡steres de ArcGIS",
   "help": ""
  }
 ],
 "mensurationCapabilities": "Basic",
 "hasHistograms": true,
 "hasColormap": false,
 "hasRasterAttributeTable": false,
 "minScale": 0,
 "maxScale": 0,
 "exportTilesAllowed": false,
 "supportsStatistics": false,
 "supportsAdvancedQueries": false,
 "editFieldsInfo": null,
 "ownershipBasedAccessControlForRasters": null,
 "allowComputeTiePoints": false,
 "useStandardizedQueries": true,
 "advancedQueryCapabilities": {
  "useStandardizedQueries": true,
  "supportsStatistics": false,
  "supportsOrderBy": false,
  "supportsDistinct": false,
  "supportsPagination": false
 },
 "spatialReference": {
  "wkid": 102100,
  "latestWkid": 3857
 }
}
