{
 "currentVersion": 10.91,
 "serviceDescription": "Hosted/PachucaCentro_AntiguaUAEH_ortofotos_oblicua",
 "name": "Hosted/PachucaCentro_AntiguaUAEH_ortofotos_oblicua",
 "description": "",
 "extent": {
  "xmin": -1.099145405493703E7,
  "ymin": 2287735.4627938983,
  "xmax": -1.0990723681061829E7,
  "ymax": 2288460.020201191,
  "spatialReference": {
   "wkid": 102100,
   "latestWkid": 3857
  }
 },
 "initialExtent": {
  "xmin": -1.099145405493703E7,
  "ymin": 2287735.4627938983,
  "xmax": -1.0990723681061829E7,
  "ymax": 2288460.020201191,
  "spatialReference": {
   "wkid": 102100,
   "latestWkid": 3857
  }
 },
 "fullExtent": {
  "xmin": -1.099145405493703E7,
  "ymin": 2287735.4627938983,
  "xmax": -1.0990723681061829E7,
  "ymax": 2288460.020201191,
  "spatialReference": {
   "wkid": 102100,
   "latestWkid": 3857
  }
 },
 "hasMultidimensions": false,
 "pixelSizeX": 0.05816467907945755,
 "pixelSizeY": 0.05816467907943625,
 "datasetFormat": "Cache/LERC2D",
 "uncompressedSize": 469267647,
 "blockWidth": 256,
 "blockHeight": 256,
 "compressionType": "LERC2D",
 "bandNames": [
  "Band_1",
  "Band_2",
  "Band_3"
 ],
 "allowCopy": true,
 "allowAnalysis": true,
 "bandCount": 3,
 "noDataValue": 256,
 "noDataValues": [
  256,
  256,
  256
 ],
 "pixelType": "U8",
 "minPixelSize": 0,
 "maxPixelSize": 0,
 "copyrightText": "",
 "serviceDataType": "esriImageServiceDataTypeRGB",
 "serviceSourceType": "esriImageServiceSourceTypeDataset",
 "minValues": [
  0,
  0,
  0
 ],
 "maxValues": [
  255,
  255,
  255
 ],
 "meanValues": [
  108.53474019659511,
  99.0412040477838,
  96.28209039870447
 ],
 "stdvValues": [
  43.54496040656602,
  45.77658353577862,
  44.31826722369003
 ],
 "objectIdField": "",
 "fields": [],
 "capabilities": "Image, Metadata",
 "defaultMosaicMethod": "Center",
 "allowedMosaicMethods": "",
 "sortField": "",
 "sortValue": null,
 "sortAscending": true,
 "mosaicOperator": "First",
 "defaultCompressionQuality": 75,
 "defaultResamplingMethod": "Bicubic",
 "maxImageHeight": 4100,
 "maxImageWidth": 15000,
 "singleFusedMapCache": true,
 "tileInfo": {
  "rows": 256,
  "cols": 256,
  "dpi": 96,
  "format": "LERC2D",
  "compressionQuality": 100000,
  "lercError": 0.1,
  "origin": {
   "x": -1.099145405493703E7,
   "y": 2288460.020201191
  },
  "spatialReference": {
   "wkid": 102100,
   "latestWkid": 3857
  },
  "lods": [
   {
    "level": 0,
    "resolution": 3.72253946108392,
    "scale": 14069.412343955897
   },
   {
    "level": 1,
    "resolution": 1.86126973054196,
    "scale": 7034.7061719779485
   },
   {
    "level": 2,
    "resolution": 0.93063486527098,
    "scale": 3517.3530859889743
   },
   {
    "level": 3,
    "resolution": 0.46531743263549,
    "scale": 1758.6765429944871
   },
   {
    "level": 4,
    "resolution": 0.232658716317745,
    "scale": 879.3382714972436
   },
   {
    "level": 5,
    "resolution": 0.1163293581588725,
    "scale": 439.6691357486218
   },
   {
    "level": 6,
    "resolution": 0.05816467907943625,
    "scale": 219.8345678743109
   }
  ]
 },
 "storageInfo": {
  "storageFormat": "esriMapCacheStorageModeCompactV2",
  "packetSize": 16
 },
 "cacheType": "Raster",
 "allowRasterFunction": true,
 "rasterFunctionInfos": [
  {
   "name": "None",
   "description": "",
   "help": ""
  }
 ],
 "rasterTypeInfos": [
  {
   "name": "Raster Dataset",
   "description": "Compatible con todos los datasets de rĂ¡steres de ArcGIS",
   "help": ""
  }
 ],
 "mensurationCapabilities": "Basic",
 "hasHistograms": true,
 "hasColormap": false,
 "hasRasterAttributeTable": false,
 "minScale": 0,
 "maxScale": 0,
 "exportTilesAllowed": false,
 "supportsStatistics": false,
 "supportsAdvancedQueries": false,
 "editFieldsInfo": null,
 "ownershipBasedAccessControlForRasters": null,
 "allowComputeTiePoints": false,
 "useStandardizedQueries": true,
 "advancedQueryCapabilities": {
  "useStandardizedQueries": true,
  "supportsStatistics": false,
  "supportsOrderBy": false,
  "supportsDistinct": false,
  "supportsPagination": false
 },
 "spatialReference": {
  "wkid": 102100,
  "latestWkid": 3857
 }
}
