{
 "currentVersion": 10.91,
 "serviceDescription": "Hosted/PachucaCentro_Reloj_ortofotos_oblicua_ok",
 "name": "Hosted/PachucaCentro_Reloj_ortofotos_oblicua_ok",
 "description": "",
 "extent": {
  "xmin": -1.0991191848250179E7,
  "ymin": 2287953.8286659312,
  "xmax": -1.0990491470928323E7,
  "ymax": 2288691.5791877955,
  "spatialReference": {
   "wkid": 102100,
   "latestWkid": 3857
  }
 },
 "initialExtent": {
  "xmin": -1.0991191848250179E7,
  "ymin": 2287953.8286659312,
  "xmax": -1.0990491470928323E7,
  "ymax": 2288691.5791877955,
  "spatialReference": {
   "wkid": 102100,
   "latestWkid": 3857
  }
 },
 "fullExtent": {
  "xmin": -1.0991191848250179E7,
  "ymin": 2287953.8286659312,
  "xmax": -1.0990491470928323E7,
  "ymax": 2288691.5791877955,
  "spatialReference": {
   "wkid": 102100,
   "latestWkid": 3857
  }
 },
 "hasMultidimensions": false,
 "pixelSizeX": 0.059228526161192084,
 "pixelSizeY": 0.05922852616122964,
 "datasetFormat": "Cache/LERC2D",
 "uncompressedSize": 441876600,
 "blockWidth": 256,
 "blockHeight": 256,
 "compressionType": "LERC2D",
 "bandNames": [
  "Band_1",
  "Band_2",
  "Band_3"
 ],
 "allowCopy": true,
 "allowAnalysis": true,
 "bandCount": 3,
 "noDataValue": 256,
 "noDataValues": [
  256,
  256,
  256
 ],
 "pixelType": "U8",
 "minPixelSize": 0,
 "maxPixelSize": 0,
 "copyrightText": "",
 "serviceDataType": "esriImageServiceDataTypeRGB",
 "serviceSourceType": "esriImageServiceSourceTypeDataset",
 "minValues": [
  0,
  0,
  0
 ],
 "maxValues": [
  255,
  255,
  255
 ],
 "meanValues": [
  137.21735993524373,
  125.19986318397065,
  117.16017651264244
 ],
 "stdvValues": [
  46.69918910588101,
  48.678150857480645,
  46.933856936633966
 ],
 "objectIdField": "",
 "fields": [],
 "capabilities": "Image, Metadata",
 "defaultMosaicMethod": "Center",
 "allowedMosaicMethods": "",
 "sortField": "",
 "sortValue": null,
 "sortAscending": true,
 "mosaicOperator": "First",
 "defaultCompressionQuality": 75,
 "defaultResamplingMethod": "Bicubic",
 "maxImageHeight": 4100,
 "maxImageWidth": 15000,
 "singleFusedMapCache": true,
 "tileInfo": {
  "rows": 256,
  "cols": 256,
  "dpi": 96,
  "format": "LERC2D",
  "compressionQuality": 100000,
  "lercError": 0.1,
  "origin": {
   "x": -1.0991191848250179E7,
   "y": 2288691.5791877955
  },
  "spatialReference": {
   "wkid": 102100,
   "latestWkid": 3857
  },
  "lods": [
   {
    "level": 0,
    "resolution": 3.790625674318697,
    "scale": 14326.745548601
   },
   {
    "level": 1,
    "resolution": 1.8953128371593484,
    "scale": 7163.3727743005
   },
   {
    "level": 2,
    "resolution": 0.9476564185796742,
    "scale": 3581.68638715025
   },
   {
    "level": 3,
    "resolution": 0.4738282092898371,
    "scale": 1790.843193575125
   },
   {
    "level": 4,
    "resolution": 0.23691410464491855,
    "scale": 895.4215967875625
   },
   {
    "level": 5,
    "resolution": 0.11845705232245927,
    "scale": 447.71079839378126
   },
   {
    "level": 6,
    "resolution": 0.05922852616122964,
    "scale": 223.85539919689063
   }
  ]
 },
 "storageInfo": {
  "storageFormat": "esriMapCacheStorageModeCompactV2",
  "packetSize": 16
 },
 "cacheType": "Raster",
 "allowRasterFunction": true,
 "rasterFunctionInfos": [
  {
   "name": "None",
   "description": "",
   "help": ""
  }
 ],
 "rasterTypeInfos": [
  {
   "name": "Raster Dataset",
   "description": "Compatible con todos los datasets de rĂ¡steres de ArcGIS",
   "help": ""
  }
 ],
 "mensurationCapabilities": "Basic",
 "hasHistograms": true,
 "hasColormap": false,
 "hasRasterAttributeTable": false,
 "minScale": 0,
 "maxScale": 0,
 "exportTilesAllowed": false,
 "supportsStatistics": false,
 "supportsAdvancedQueries": false,
 "editFieldsInfo": null,
 "ownershipBasedAccessControlForRasters": null,
 "allowComputeTiePoints": false,
 "useStandardizedQueries": true,
 "advancedQueryCapabilities": {
  "useStandardizedQueries": true,
  "supportsStatistics": false,
  "supportsOrderBy": false,
  "supportsDistinct": false,
  "supportsPagination": false
 },
 "spatialReference": {
  "wkid": 102100,
  "latestWkid": 3857
 }
}
