{
 "currentVersion": 10.91,
 "serviceDescription": "Hosted/Residencial_SianKaanII_Merida",
 "name": "Hosted/Residencial_SianKaanII_Merida",
 "description": "",
 "extent": {
  "xmin": -9986709.845034609,
  "ymin": 2389102.8193384483,
  "xmax": -9983594.14503461,
  "ymax": 2390975.319338448,
  "spatialReference": {
   "wkid": 102100,
   "latestWkid": 3857
  }
 },
 "initialExtent": {
  "xmin": -9986709.845034609,
  "ymin": 2389102.8193384483,
  "xmax": -9983594.14503461,
  "ymax": 2390975.319338448,
  "spatialReference": {
   "wkid": 102100,
   "latestWkid": 3857
  }
 },
 "fullExtent": {
  "xmin": -9986709.845034609,
  "ymin": 2389102.8193384483,
  "xmax": -9983594.14503461,
  "ymax": 2390975.319338448,
  "spatialReference": {
   "wkid": 102100,
   "latestWkid": 3857
  }
 },
 "hasMultidimensions": false,
 "pixelSizeX": 0.09999999999997608,
 "pixelSizeY": 0.09999999999997514,
 "datasetFormat": "Cache/LERC2D",
 "uncompressedSize": 1750244475,
 "blockWidth": 256,
 "blockHeight": 256,
 "compressionType": "LERC2D",
 "bandNames": [
  "Band_1",
  "Band_2",
  "Band_3"
 ],
 "allowCopy": true,
 "allowAnalysis": true,
 "bandCount": 3,
 "noDataValue": 0,
 "noDataValues": [
  0,
  0,
  0
 ],
 "pixelType": "U8",
 "minPixelSize": 0,
 "maxPixelSize": 0,
 "copyrightText": "",
 "serviceDataType": "esriImageServiceDataTypeProcessed",
 "serviceSourceType": "esriImageServiceSourceTypeDataset",
 "minValues": [
  0,
  0,
  0
 ],
 "maxValues": [
  255,
  255,
  255
 ],
 "meanValues": [
  96.36631295473613,
  99.56853765974509,
  87.96850786529319
 ],
 "stdvValues": [
  63.61424991483697,
  58.65953309105416,
  57.12626662987835
 ],
 "objectIdField": "",
 "fields": [],
 "capabilities": "Image, Metadata",
 "defaultMosaicMethod": "Center",
 "allowedMosaicMethods": "",
 "sortField": "",
 "sortValue": null,
 "sortAscending": true,
 "mosaicOperator": "First",
 "defaultCompressionQuality": 75,
 "defaultResamplingMethod": "Bicubic",
 "maxImageHeight": 4100,
 "maxImageWidth": 15000,
 "singleFusedMapCache": true,
 "tileInfo": {
  "rows": 256,
  "cols": 256,
  "dpi": 96,
  "format": "LERC2D",
  "compressionQuality": 100000,
  "lercError": 0.1,
  "origin": {
   "x": -9986709.845034609,
   "y": 2390975.319338448
  },
  "spatialReference": {
   "wkid": 102100,
   "latestWkid": 3857
  },
  "lods": [
   {
    "level": 0,
    "resolution": 12.799999999996938,
    "scale": 48377.855999988424
   },
   {
    "level": 1,
    "resolution": 6.399999999998469,
    "scale": 24188.927999994212
   },
   {
    "level": 2,
    "resolution": 3.1999999999992346,
    "scale": 12094.463999997106
   },
   {
    "level": 3,
    "resolution": 1.5999999999996173,
    "scale": 6047.231999998553
   },
   {
    "level": 4,
    "resolution": 0.7999999999998086,
    "scale": 3023.6159999992765
   },
   {
    "level": 5,
    "resolution": 0.3999999999999043,
    "scale": 1511.8079999996382
   },
   {
    "level": 6,
    "resolution": 0.19999999999995216,
    "scale": 755.9039999998191
   },
   {
    "level": 7,
    "resolution": 0.09999999999997608,
    "scale": 377.95199999990956
   }
  ]
 },
 "storageInfo": {
  "storageFormat": "esriMapCacheStorageModeCompactV2",
  "packetSize": 16
 },
 "cacheType": "Raster",
 "allowRasterFunction": true,
 "rasterFunctionInfos": [
  {
   "name": "None",
   "description": "",
   "help": ""
  }
 ],
 "rasterTypeInfos": [
  {
   "name": "Raster Dataset",
   "description": "Compatible con todos los datasets de rĂ¡steres de ArcGIS",
   "help": ""
  }
 ],
 "mensurationCapabilities": "Basic",
 "hasHistograms": true,
 "hasColormap": false,
 "hasRasterAttributeTable": false,
 "minScale": 0,
 "maxScale": 0,
 "exportTilesAllowed": false,
 "supportsStatistics": false,
 "supportsAdvancedQueries": false,
 "editFieldsInfo": null,
 "ownershipBasedAccessControlForRasters": null,
 "allowComputeTiePoints": false,
 "useStandardizedQueries": true,
 "advancedQueryCapabilities": {
  "useStandardizedQueries": true,
  "supportsStatistics": false,
  "supportsOrderBy": false,
  "supportsDistinct": false,
  "supportsPagination": false
 },
 "spatialReference": {
  "wkid": 102100,
  "latestWkid": 3857
 }
}
