{
 "currentVersion": 10.91,
 "serviceDescription": "Hosted/Sentinel2_1C_01192022",
 "name": "Hosted/Sentinel2_1C_01192022",
 "description": "",
 "extent": {
  "xmin": -1.000753066239278E7,
  "ymin": 2354622.443413151,
  "xmax": -9888110.66239278,
  "ymax": 2474732.443413151,
  "spatialReference": {
   "wkid": 102100,
   "latestWkid": 3857
  }
 },
 "initialExtent": {
  "xmin": -1.000753066239278E7,
  "ymin": 2354622.443413151,
  "xmax": -9888110.66239278,
  "ymax": 2474732.443413151,
  "spatialReference": {
   "wkid": 102100,
   "latestWkid": 3857
  }
 },
 "fullExtent": {
  "xmin": -1.000753066239278E7,
  "ymin": 2354622.443413151,
  "xmax": -9888110.66239278,
  "ymax": 2474732.443413151,
  "spatialReference": {
   "wkid": 102100,
   "latestWkid": 3857
  }
 },
 "hasMultidimensions": false,
 "pixelSizeX": 10,
 "pixelSizeY": 10,
 "datasetFormat": "Cache/LERC2D",
 "uncompressedSize": 3729319412,
 "blockWidth": 256,
 "blockHeight": 256,
 "compressionType": "LERC2D",
 "bandNames": [
  "B1",
  "B2",
  "B3",
  "B4",
  "B5",
  "B6",
  "B7",
  "B8",
  "B8A",
  "B9",
  "B10",
  "B11",
  "B12"
 ],
 "allowCopy": true,
 "allowAnalysis": true,
 "bandCount": 13,
 "noDataValue": 65535,
 "noDataValues": [
  65535,
  65535,
  65535,
  65535,
  65535,
  65535,
  65535,
  65535,
  65535,
  65535,
  65535,
  65535,
  65535
 ],
 "pixelType": "U16",
 "minPixelSize": 0,
 "maxPixelSize": 0,
 "copyrightText": "",
 "serviceDataType": "esriImageServiceDataTypeGeneric",
 "serviceSourceType": "esriImageServiceSourceTypeDataset",
 "minValues": [
  1066,
  308,
  146,
  1,
  188,
  17,
  32,
  81,
  1,
  1,
  1,
  0,
  0
 ],
 "maxValues": [
  4758,
  12437,
  11242,
  14252,
  7254,
  7451,
  7816,
  13337,
  7776,
  2006,
  88,
  8097,
  17583
 ],
 "meanValues": [
  1374.0241068962364,
  1101.5307626381548,
  918.6033257184382,
  605.5269387763684,
  832.5889429314736,
  1501.0476796288112,
  1790.96845177382,
  1755.3111402938143,
  2044.5703539072847,
  460.53298003979086,
  9.717694721594874,
  1479.2277178339482,
  735.4350828436158
 ],
 "stdvValues": [
  245.27404957029256,
  329.0229150618116,
  305.0682111881684,
  352.87248288494146,
  418.09466370054804,
  788.7726495689088,
  973.5983107491231,
  979.1001675728847,
  1154.702970452459,
  244.31149149469914,
  2.5691033396832808,
  936.004659236329,
  537.2906632739617
 ],
 "objectIdField": "",
 "fields": [],
 "capabilities": "Image, Metadata",
 "defaultMosaicMethod": "Center",
 "allowedMosaicMethods": "",
 "sortField": "",
 "sortValue": null,
 "sortAscending": true,
 "mosaicOperator": "First",
 "defaultCompressionQuality": 75,
 "defaultResamplingMethod": "Nearest",
 "maxImageHeight": 4100,
 "maxImageWidth": 15000,
 "singleFusedMapCache": true,
 "tileInfo": {
  "rows": 256,
  "cols": 256,
  "dpi": 96,
  "format": "LERC2D",
  "compressionQuality": 100000,
  "lercError": 0.1,
  "origin": {
   "x": -1.000753066239278E7,
   "y": 2474732.443413151
  },
  "spatialReference": {
   "wkid": 102100,
   "latestWkid": 3857
  },
  "lods": [
   {
    "level": 0,
    "resolution": 640,
    "scale": 2418892.8
   },
   {
    "level": 1,
    "resolution": 320,
    "scale": 1209446.4
   },
   {
    "level": 2,
    "resolution": 160,
    "scale": 604723.2
   },
   {
    "level": 3,
    "resolution": 80,
    "scale": 302361.6
   },
   {
    "level": 4,
    "resolution": 40,
    "scale": 151180.8
   },
   {
    "level": 5,
    "resolution": 20,
    "scale": 75590.4
   },
   {
    "level": 6,
    "resolution": 10,
    "scale": 37795.2
   }
  ]
 },
 "storageInfo": {
  "storageFormat": "esriMapCacheStorageModeCompactV2",
  "packetSize": 8
 },
 "cacheType": "Raster",
 "allowRasterFunction": true,
 "rasterFunctionInfos": [
  {
   "name": "None",
   "description": "",
   "help": ""
  }
 ],
 "rasterTypeInfos": [
  {
   "name": "Raster Dataset",
   "description": "Compatible con todos los datasets de rĂ¡steres de ArcGIS",
   "help": ""
  }
 ],
 "mensurationCapabilities": "Basic",
 "hasHistograms": true,
 "hasColormap": false,
 "hasRasterAttributeTable": false,
 "minScale": 0,
 "maxScale": 0,
 "exportTilesAllowed": false,
 "supportsStatistics": false,
 "supportsAdvancedQueries": false,
 "editFieldsInfo": null,
 "ownershipBasedAccessControlForRasters": null,
 "allowComputeTiePoints": false,
 "useStandardizedQueries": true,
 "advancedQueryCapabilities": {
  "useStandardizedQueries": true,
  "supportsStatistics": false,
  "supportsOrderBy": false,
  "supportsDistinct": false,
  "supportsPagination": false
 },
 "spatialReference": {
  "wkid": 102100,
  "latestWkid": 3857
 }
}
