{
 "currentVersion": 10.91,
 "serviceDescription": "Hosted/Sentinel2_1C_01252017",
 "name": "Hosted/Sentinel2_1C_01252017",
 "description": "",
 "extent": {
  "xmin": -1.000753066239278E7,
  "ymin": 2354622.443413151,
  "xmax": -9888110.66239278,
  "ymax": 2474732.443413151,
  "spatialReference": {
   "wkid": 102100,
   "latestWkid": 3857
  }
 },
 "initialExtent": {
  "xmin": -1.000753066239278E7,
  "ymin": 2354622.443413151,
  "xmax": -9888110.66239278,
  "ymax": 2474732.443413151,
  "spatialReference": {
   "wkid": 102100,
   "latestWkid": 3857
  }
 },
 "fullExtent": {
  "xmin": -1.000753066239278E7,
  "ymin": 2354622.443413151,
  "xmax": -9888110.66239278,
  "ymax": 2474732.443413151,
  "spatialReference": {
   "wkid": 102100,
   "latestWkid": 3857
  }
 },
 "hasMultidimensions": false,
 "pixelSizeX": 10,
 "pixelSizeY": 10,
 "datasetFormat": "Cache/LERC2D",
 "uncompressedSize": 3729319412,
 "blockWidth": 256,
 "blockHeight": 256,
 "compressionType": "LERC2D",
 "bandNames": [
  "B1",
  "B2",
  "B3",
  "B4",
  "B5",
  "B6",
  "B7",
  "B8",
  "B8A",
  "B9",
  "B10",
  "B11",
  "B12"
 ],
 "allowCopy": true,
 "allowAnalysis": true,
 "bandCount": 13,
 "noDataValue": 65535,
 "noDataValues": [
  65535,
  65535,
  65535,
  65535,
  65535,
  65535,
  65535,
  65535,
  65535,
  65535,
  65535,
  65535,
  65535
 ],
 "pixelType": "U16",
 "minPixelSize": 0,
 "maxPixelSize": 0,
 "copyrightText": "",
 "serviceDataType": "esriImageServiceDataTypeGeneric",
 "serviceSourceType": "esriImageServiceSourceTypeDataset",
 "minValues": [
  0,
  698,
  0,
  0,
  0,
  0,
  0,
  0,
  0,
  0,
  0,
  0,
  0
 ],
 "maxValues": [
  4965,
  11816,
  11348,
  11943,
  7525,
  7963,
  8289,
  12539,
  8335,
  2110,
  136,
  10543,
  18156
 ],
 "meanValues": [
  1360.2482233486935,
  1103.0099917286027,
  941.2862006460743,
  644.5366630510333,
  880.0814956605919,
  1518.2885389378037,
  1789.3239775585055,
  1794.3729057087355,
  2033.8236549528976,
  687.6933495347373,
  9.793867313192877,
  1603.7500038237033,
  854.3309007552792
 ],
 "stdvValues": [
  218.2057510152087,
  300.3216869639194,
  287.6545582855146,
  355.78877651360347,
  437.0059164081393,
  835.7392743697544,
  1019.5950525996733,
  1041.2667727073704,
  1187.4425009724985,
  384.0255836043262,
  2.8763082257290282,
  1011.7208903391162,
  609.877359121097
 ],
 "objectIdField": "",
 "fields": [],
 "capabilities": "Image, Metadata",
 "defaultMosaicMethod": "Center",
 "allowedMosaicMethods": "",
 "sortField": "",
 "sortValue": null,
 "sortAscending": true,
 "mosaicOperator": "First",
 "defaultCompressionQuality": 75,
 "defaultResamplingMethod": "Nearest",
 "maxImageHeight": 4100,
 "maxImageWidth": 15000,
 "singleFusedMapCache": true,
 "tileInfo": {
  "rows": 256,
  "cols": 256,
  "dpi": 96,
  "format": "LERC2D",
  "compressionQuality": 100000,
  "lercError": 0.1,
  "origin": {
   "x": -1.000753066239278E7,
   "y": 2474732.443413151
  },
  "spatialReference": {
   "wkid": 102100,
   "latestWkid": 3857
  },
  "lods": [
   {
    "level": 0,
    "resolution": 640,
    "scale": 2418892.8
   },
   {
    "level": 1,
    "resolution": 320,
    "scale": 1209446.4
   },
   {
    "level": 2,
    "resolution": 160,
    "scale": 604723.2
   },
   {
    "level": 3,
    "resolution": 80,
    "scale": 302361.6
   },
   {
    "level": 4,
    "resolution": 40,
    "scale": 151180.8
   },
   {
    "level": 5,
    "resolution": 20,
    "scale": 75590.4
   },
   {
    "level": 6,
    "resolution": 10,
    "scale": 37795.2
   }
  ]
 },
 "storageInfo": {
  "storageFormat": "esriMapCacheStorageModeCompactV2",
  "packetSize": 8
 },
 "cacheType": "Raster",
 "allowRasterFunction": true,
 "rasterFunctionInfos": [
  {
   "name": "None",
   "description": "",
   "help": ""
  }
 ],
 "rasterTypeInfos": [
  {
   "name": "Raster Dataset",
   "description": "Compatible con todos los datasets de rĂ¡steres de ArcGIS",
   "help": ""
  }
 ],
 "mensurationCapabilities": "Basic",
 "hasHistograms": true,
 "hasColormap": false,
 "hasRasterAttributeTable": false,
 "minScale": 0,
 "maxScale": 0,
 "exportTilesAllowed": false,
 "supportsStatistics": false,
 "supportsAdvancedQueries": false,
 "editFieldsInfo": null,
 "ownershipBasedAccessControlForRasters": null,
 "allowComputeTiePoints": false,
 "useStandardizedQueries": true,
 "advancedQueryCapabilities": {
  "useStandardizedQueries": true,
  "supportsStatistics": false,
  "supportsOrderBy": false,
  "supportsDistinct": false,
  "supportsPagination": false
 },
 "spatialReference": {
  "wkid": 102100,
  "latestWkid": 3857
 }
}
