{
 "currentVersion": 10.91,
 "serviceDescription": "Hosted/Sentinel2_Multispectral_All_CDMX_010422",
 "name": "Hosted/Sentinel2_Multispectral_All_CDMX_010422",
 "description": "",
 "extent": {
  "xmin": -1.1127015881670604E7,
  "ymin": 2143365.325713509,
  "xmax": -1.1010245881670604E7,
  "ymax": 2260765.325713509,
  "spatialReference": {
   "wkid": 102100,
   "latestWkid": 3857
  }
 },
 "initialExtent": {
  "xmin": -1.1127015881670604E7,
  "ymin": 2143365.325713509,
  "xmax": -1.1010245881670604E7,
  "ymax": 2260765.325713509,
  "spatialReference": {
   "wkid": 102100,
   "latestWkid": 3857
  }
 },
 "fullExtent": {
  "xmin": -1.1127015881670604E7,
  "ymin": 2143365.325713509,
  "xmax": -1.1010245881670604E7,
  "ymax": 2260765.325713509,
  "spatialReference": {
   "wkid": 102100,
   "latestWkid": 3857
  }
 },
 "hasMultidimensions": false,
 "pixelSizeX": 10,
 "pixelSizeY": 10,
 "datasetFormat": "Cache/LERC2D",
 "uncompressedSize": 3564287480,
 "blockWidth": 256,
 "blockHeight": 256,
 "compressionType": "LERC2D",
 "bandNames": [
  "B1",
  "B2",
  "B3",
  "B4",
  "B5",
  "B6",
  "B7",
  "B8",
  "B8A",
  "B9",
  "B10",
  "B11",
  "B12"
 ],
 "allowCopy": true,
 "allowAnalysis": true,
 "bandCount": 13,
 "noDataValue": 65535,
 "noDataValues": [
  65535,
  65535,
  65535,
  65535,
  65535,
  65535,
  65535,
  65535,
  65535,
  65535,
  65535,
  65535,
  65535
 ],
 "pixelType": "U16",
 "minPixelSize": 0,
 "maxPixelSize": 0,
 "copyrightText": "",
 "serviceDataType": "esriImageServiceDataTypeGeneric",
 "serviceSourceType": "esriImageServiceSourceTypeDataset",
 "minValues": [
  1701,
  958,
  822,
  542,
  756,
  974,
  1102,
  398,
  0,
  962,
  1005,
  1047,
  906
 ],
 "maxValues": [
  9186,
  20718,
  20854,
  22008,
  22794,
  25440,
  28000,
  24516,
  28002,
  8540,
  1249,
  16175,
  16254
 ],
 "meanValues": [
  2262.3348868745693,
  2148.095064082768,
  2162.1610231863274,
  2309.125084538318,
  2532.177615275984,
  2974.684137125502,
  3190.781720504951,
  3205.5864150928683,
  3391.6363978672034,
  2293.8227355968224,
  1032.4584303686759,
  3431.5933903930168,
  2797.4697352545577
 ],
 "stdvValues": [
  274.49231019258883,
  369.0320026852143,
  419.3983682602265,
  595.2559360070326,
  536.1025287081101,
  454.489502386145,
  496.07275093612014,
  527.9977442231753,
  537.8851994902186,
  292.3657986333552,
  19.95412953490881,
  819.5352269053324,
  781.3220506715228
 ],
 "objectIdField": "",
 "fields": [],
 "capabilities": "Image, Metadata",
 "defaultMosaicMethod": "Center",
 "allowedMosaicMethods": "",
 "sortField": "",
 "sortValue": null,
 "sortAscending": true,
 "mosaicOperator": "First",
 "defaultCompressionQuality": 75,
 "defaultResamplingMethod": "Nearest",
 "maxImageHeight": 4100,
 "maxImageWidth": 15000,
 "singleFusedMapCache": true,
 "tileInfo": {
  "rows": 256,
  "cols": 256,
  "dpi": 96,
  "format": "LERC2D",
  "compressionQuality": 100000,
  "lercError": 0.1,
  "origin": {
   "x": -1.1127015881670604E7,
   "y": 2260765.325713509
  },
  "spatialReference": {
   "wkid": 102100,
   "latestWkid": 3857
  },
  "lods": [
   {
    "level": 0,
    "resolution": 640,
    "scale": 2418892.8
   },
   {
    "level": 1,
    "resolution": 320,
    "scale": 1209446.4
   },
   {
    "level": 2,
    "resolution": 160,
    "scale": 604723.2
   },
   {
    "level": 3,
    "resolution": 80,
    "scale": 302361.6
   },
   {
    "level": 4,
    "resolution": 40,
    "scale": 151180.8
   },
   {
    "level": 5,
    "resolution": 20,
    "scale": 75590.4
   },
   {
    "level": 6,
    "resolution": 10,
    "scale": 37795.2
   }
  ]
 },
 "storageInfo": {
  "storageFormat": "esriMapCacheStorageModeCompactV2",
  "packetSize": 8
 },
 "cacheType": "Raster",
 "allowRasterFunction": true,
 "rasterFunctionInfos": [
  {
   "name": "None",
   "description": "",
   "help": ""
  }
 ],
 "rasterTypeInfos": [
  {
   "name": "Raster Dataset",
   "description": "Compatible con todos los datasets de rĂ¡steres de ArcGIS",
   "help": ""
  }
 ],
 "mensurationCapabilities": "Basic",
 "hasHistograms": true,
 "hasColormap": false,
 "hasRasterAttributeTable": false,
 "minScale": 0,
 "maxScale": 0,
 "exportTilesAllowed": false,
 "supportsStatistics": false,
 "supportsAdvancedQueries": false,
 "editFieldsInfo": null,
 "ownershipBasedAccessControlForRasters": null,
 "allowComputeTiePoints": false,
 "useStandardizedQueries": true,
 "advancedQueryCapabilities": {
  "useStandardizedQueries": true,
  "supportsStatistics": false,
  "supportsOrderBy": false,
  "supportsDistinct": false,
  "supportsPagination": false
 },
 "spatialReference": {
  "wkid": 102100,
  "latestWkid": 3857
 }
}
