{
 "currentVersion": 10.91,
 "serviceDescription": "Hosted/Sentinel2_Multispectral_All_CDMX_020416",
 "name": "Hosted/Sentinel2_Multispectral_All_CDMX_020416",
 "description": "",
 "extent": {
  "xmin": -1.1127015881670604E7,
  "ymin": 2143365.325713509,
  "xmax": -1.1010245881670604E7,
  "ymax": 2260765.325713509,
  "spatialReference": {
   "wkid": 102100,
   "latestWkid": 3857
  }
 },
 "initialExtent": {
  "xmin": -1.1127015881670604E7,
  "ymin": 2143365.325713509,
  "xmax": -1.1010245881670604E7,
  "ymax": 2260765.325713509,
  "spatialReference": {
   "wkid": 102100,
   "latestWkid": 3857
  }
 },
 "fullExtent": {
  "xmin": -1.1127015881670604E7,
  "ymin": 2143365.325713509,
  "xmax": -1.1010245881670604E7,
  "ymax": 2260765.325713509,
  "spatialReference": {
   "wkid": 102100,
   "latestWkid": 3857
  }
 },
 "hasMultidimensions": false,
 "pixelSizeX": 10,
 "pixelSizeY": 10,
 "datasetFormat": "Cache/LERC2D",
 "uncompressedSize": 3564287480,
 "blockWidth": 256,
 "blockHeight": 256,
 "compressionType": "LERC2D",
 "bandNames": [
  "B1",
  "B2",
  "B3",
  "B4",
  "B5",
  "B6",
  "B7",
  "B8",
  "B8A",
  "B9",
  "B10",
  "B11",
  "B12"
 ],
 "allowCopy": true,
 "allowAnalysis": true,
 "bandCount": 13,
 "noDataValue": 65535,
 "noDataValues": [
  65535,
  65535,
  65535,
  65535,
  65535,
  65535,
  65535,
  65535,
  65535,
  65535,
  65535,
  65535,
  65535
 ],
 "pixelType": "U16",
 "minPixelSize": 0,
 "maxPixelSize": 0,
 "copyrightText": "",
 "serviceDataType": "esriImageServiceDataTypeGeneric",
 "serviceSourceType": "esriImageServiceSourceTypeDataset",
 "minValues": [
  439,
  1,
  1,
  1,
  1,
  0,
  0,
  143,
  1,
  1,
  1,
  38,
  0
 ],
 "maxValues": [
  14764,
  20057,
  19950,
  22399,
  20958,
  24223,
  28001,
  22688,
  28001,
  9364,
  461,
  16132,
  15434
 ],
 "meanValues": [
  1240.7017058905408,
  1125.2397926067513,
  1142.0389750003546,
  1257.0165439476157,
  1477.9558753047195,
  1952.5414866755928,
  2175.9716103149167,
  2172.375198856436,
  2379.344739796978,
  1120.2189740007025,
  22.92497468526615,
  2401.3749134077616,
  1768.804445669408
 ],
 "stdvValues": [
  287.70580004644546,
  369.5544673764878,
  413.2187826306339,
  573.8832299832085,
  502.55612341225424,
  433.95941333749823,
  479.4251791860741,
  505.68441860359366,
  520.2610711956555,
  229.5323385595343,
  22.279573903175276,
  787.4159062901806,
  757.6736504014501
 ],
 "objectIdField": "",
 "fields": [],
 "capabilities": "Image, Metadata",
 "defaultMosaicMethod": "Center",
 "allowedMosaicMethods": "",
 "sortField": "",
 "sortValue": null,
 "sortAscending": true,
 "mosaicOperator": "First",
 "defaultCompressionQuality": 75,
 "defaultResamplingMethod": "Nearest",
 "maxImageHeight": 4100,
 "maxImageWidth": 15000,
 "singleFusedMapCache": true,
 "tileInfo": {
  "rows": 256,
  "cols": 256,
  "dpi": 96,
  "format": "LERC2D",
  "compressionQuality": 100000,
  "lercError": 0.1,
  "origin": {
   "x": -1.1127015881670604E7,
   "y": 2260765.325713509
  },
  "spatialReference": {
   "wkid": 102100,
   "latestWkid": 3857
  },
  "lods": [
   {
    "level": 0,
    "resolution": 640,
    "scale": 2418892.8
   },
   {
    "level": 1,
    "resolution": 320,
    "scale": 1209446.4
   },
   {
    "level": 2,
    "resolution": 160,
    "scale": 604723.2
   },
   {
    "level": 3,
    "resolution": 80,
    "scale": 302361.6
   },
   {
    "level": 4,
    "resolution": 40,
    "scale": 151180.8
   },
   {
    "level": 5,
    "resolution": 20,
    "scale": 75590.4
   },
   {
    "level": 6,
    "resolution": 10,
    "scale": 37795.2
   }
  ]
 },
 "storageInfo": {
  "storageFormat": "esriMapCacheStorageModeCompactV2",
  "packetSize": 8
 },
 "cacheType": "Raster",
 "allowRasterFunction": true,
 "rasterFunctionInfos": [
  {
   "name": "None",
   "description": "",
   "help": ""
  }
 ],
 "rasterTypeInfos": [
  {
   "name": "Raster Dataset",
   "description": "Compatible con todos los datasets de rĂ¡steres de ArcGIS",
   "help": ""
  }
 ],
 "mensurationCapabilities": "Basic",
 "hasHistograms": true,
 "hasColormap": false,
 "hasRasterAttributeTable": false,
 "minScale": 0,
 "maxScale": 0,
 "exportTilesAllowed": false,
 "supportsStatistics": false,
 "supportsAdvancedQueries": false,
 "editFieldsInfo": null,
 "ownershipBasedAccessControlForRasters": null,
 "allowComputeTiePoints": false,
 "useStandardizedQueries": true,
 "advancedQueryCapabilities": {
  "useStandardizedQueries": true,
  "supportsStatistics": false,
  "supportsOrderBy": false,
  "supportsDistinct": false,
  "supportsPagination": false
 },
 "spatialReference": {
  "wkid": 102100,
  "latestWkid": 3857
 }
}
