{
 "currentVersion": 10.91,
 "serviceDescription": "Imagery/Pueb_R1",
 "name": "Imagery/Pueb_R1",
 "description": "",
 "extent": {
  "xmin": 584764.6897724392,
  "ymin": 2106436.2376215244,
  "xmax": 585265.1897724392,
  "ymax": 2106774.230260722,
  "spatialReference": {
   "wkid": 32614,
   "latestWkid": 32614
  }
 },
 "initialExtent": {
  "xmin": 584764.6897724392,
  "ymin": 2106436.2376215244,
  "xmax": 585265.1897724392,
  "ymax": 2106774.230260722,
  "spatialReference": {
   "wkid": 32614,
   "latestWkid": 32614
  }
 },
 "fullExtent": {
  "xmin": 584764.6897724392,
  "ymin": 2106436.2376215244,
  "xmax": 585265.1897724392,
  "ymax": 2106774.230260722,
  "spatialReference": {
   "wkid": 32614,
   "latestWkid": 32614
  }
 },
 "hasMultidimensions": false,
 "pixelSizeX": 0.5,
 "pixelSizeY": 0.4999891112389087,
 "datasetFormat": "TIFF",
 "uncompressedSize": 2030028,
 "blockWidth": 128,
 "blockHeight": 128,
 "compressionType": "None",
 "bandNames": [
  "Band_1",
  "Band_2",
  "Band_3"
 ],
 "allowCopy": true,
 "allowAnalysis": true,
 "bandCount": 3,
 "pixelType": "U8",
 "minPixelSize": 0,
 "maxPixelSize": 0,
 "copyrightText": "",
 "serviceDataType": "esriImageServiceDataTypeRGB",
 "serviceSourceType": "esriImageServiceSourceTypeDataset",
 "minValues": [
  3,
  44,
  21
 ],
 "maxValues": [
  247,
  255,
  255
 ],
 "meanValues": [
  122.34294403821,
  130.31040261513,
  128.74475228913
 ],
 "stdvValues": [
  29.954702510475,
  25.301151724548,
  26.538034144202
 ],
 "objectIdField": "",
 "fields": [],
 "capabilities": "Image,Metadata,Pixels,Mensuration",
 "defaultMosaicMethod": "Center",
 "allowedMosaicMethods": "",
 "sortField": "",
 "sortValue": null,
 "sortAscending": true,
 "mosaicOperator": "First",
 "defaultCompressionQuality": 75,
 "defaultResamplingMethod": "Bilinear",
 "maxImageHeight": 4100,
 "maxImageWidth": 15000,
 "allowRasterFunction": true,
 "rasterFunctionInfos": [
  {
   "name": "None",
   "description": "",
   "help": ""
  }
 ],
 "rasterTypeInfos": [
  {
   "name": "Raster Dataset",
   "description": "Compatible con todos los datasets de rĂ¡steres de ArcGIS",
   "help": ""
  }
 ],
 "mensurationCapabilities": "Basic",
 "hasHistograms": true,
 "hasColormap": false,
 "hasRasterAttributeTable": false,
 "minScale": 0,
 "maxScale": 0,
 "exportTilesAllowed": false,
 "supportsStatistics": false,
 "supportsAdvancedQueries": false,
 "editFieldsInfo": null,
 "ownershipBasedAccessControlForRasters": null,
 "allowComputeTiePoints": false,
 "useStandardizedQueries": true,
 "advancedQueryCapabilities": {
  "useStandardizedQueries": true,
  "supportsStatistics": false,
  "supportsOrderBy": false,
  "supportsDistinct": false,
  "supportsPagination": false
 },
 "spatialReference": {
  "wkid": 32614,
  "latestWkid": 32614
 }
}
