{
 "currentVersion": 10.91,
 "serviceDescription": "Pemex/Panorámica_360_Quesqui_4_Del_01",
 "name": "Pemex/Panorámica_360_Quesqui_4_Del_01",
 "description": "",
 "extent": {
  "xmin": -0.5,
  "ymin": -8191.5,
  "xmax": 16383.5,
  "ymax": 0.5,
  "spatialReference": {
   "wkid": null
  }
 },
 "initialExtent": {
  "xmin": -0.5,
  "ymin": -8191.5,
  "xmax": 16383.5,
  "ymax": 0.5,
  "spatialReference": {
   "wkid": null
  }
 },
 "fullExtent": {
  "xmin": -0.5,
  "ymin": -8191.5,
  "xmax": 16383.5,
  "ymax": 0.5,
  "spatialReference": {
   "wkid": null
  }
 },
 "hasMultidimensions": false,
 "pixelSizeX": 1,
 "pixelSizeY": 1,
 "datasetFormat": "JFIF",
 "uncompressedSize": 402653184,
 "blockWidth": 16384,
 "blockHeight": 1,
 "compressionType": "JPEG",
 "bandNames": [
  "Band_1",
  "Band_2",
  "Band_3"
 ],
 "allowCopy": true,
 "allowAnalysis": true,
 "bandCount": 3,
 "pixelType": "U8",
 "minPixelSize": 0,
 "maxPixelSize": 0,
 "copyrightText": "",
 "serviceDataType": "esriImageServiceDataTypeRGB",
 "serviceSourceType": "esriImageServiceSourceTypeDataset",
 "minValues": [
  0,
  0,
  0
 ],
 "maxValues": [
  255,
  255,
  255
 ],
 "meanValues": [
  83.518943570515,
  84.575737997871,
  82.710521362731
 ],
 "stdvValues": [
  78.551372372555,
  77.526708847729,
  76.361812787335
 ],
 "objectIdField": "",
 "fields": [],
 "capabilities": "Image,Metadata",
 "defaultMosaicMethod": "Center",
 "allowedMosaicMethods": "",
 "sortField": "",
 "sortValue": null,
 "sortAscending": true,
 "mosaicOperator": "First",
 "defaultCompressionQuality": 75,
 "defaultResamplingMethod": "Bilinear",
 "maxImageHeight": 4100,
 "maxImageWidth": 15000,
 "allowRasterFunction": true,
 "rasterFunctionInfos": [
  {
   "name": "None",
   "description": "",
   "help": ""
  }
 ],
 "rasterTypeInfos": [
  {
   "name": "Raster Dataset",
   "description": "Compatible con todos los datasets de rásteres de ArcGIS",
   "help": ""
  }
 ],
 "mensurationCapabilities": "",
 "hasHistograms": true,
 "hasColormap": false,
 "hasRasterAttributeTable": false,
 "minScale": 0,
 "maxScale": 0,
 "exportTilesAllowed": false,
 "supportsStatistics": false,
 "supportsAdvancedQueries": false,
 "editFieldsInfo": null,
 "ownershipBasedAccessControlForRasters": null,
 "allowComputeTiePoints": false,
 "useStandardizedQueries": true,
 "advancedQueryCapabilities": {
  "useStandardizedQueries": true,
  "supportsStatistics": false,
  "supportsOrderBy": false,
  "supportsDistinct": false,
  "supportsPagination": false
 },
 "spatialReference": {
  "wkid": null
 }
}
