View In:
ArcGIS JavaScript
ArcGIS Online Map Viewer
ArcGIS Earth
ArcMap
View Footprint In:
ArcGIS Online Map Viewer
Service Description: Hosted/2WorldView_4_Multispectral_Pansharpen_ORStandard2A_Acapulco_050417
Name: Hosted/2WorldView_4_Multispectral_Pansharpen_ORStandard2A_Acapulco_050417
Description:
Single Fused Map Cache: true
Tile Info:
- Height: 256
- Width: 256
- DPI: 96
-
Levels of Detail: 9
-
Level ID: 0
[ Start Tile, End Tile ]
- Resolution: 76.90680499447065
- Scale: 290670.80761270167
-
Level ID: 1
[ Start Tile, End Tile ]
- Resolution: 38.453402497235324
- Scale: 145335.40380635083
-
Level ID: 2
[ Start Tile, End Tile ]
- Resolution: 19.226701248617662
- Scale: 72667.70190317542
-
Level ID: 3
[ Start Tile, End Tile ]
- Resolution: 9.613350624308831
- Scale: 36333.85095158771
-
Level ID: 4
[ Start Tile, End Tile ]
- Resolution: 4.8066753121544155
- Scale: 18166.925475793854
-
Level ID: 5
[ Start Tile, End Tile ]
- Resolution: 2.4033376560772077
- Scale: 9083.462737896927
-
Level ID: 6
[ Start Tile, End Tile ]
- Resolution: 1.2016688280386039
- Scale: 4541.731368948464
-
Level ID: 7
[ Start Tile, End Tile ]
- Resolution: 0.6008344140193019
- Scale: 2270.865684474232
-
Level ID: 8
[ Start Tile, End Tile ]
- Resolution: 0.30041720700965097
- Scale: 1135.432842237116
- Format: LERC2D
- Compression Quality: 100000.0
- LERC Error: 0.1
- Origin: X: -1.1123096379E7
Y: 1909066.6908999993
- Spatial Reference: 102100
(3857)
Storage Info:
- Storage Format: esriMapCacheStorageModeCompactV2
- Packet Size: 12
Extent:
XMin: -1.1123096379E7
YMin: 1894790.5648056937
XMax: -1.1104426951670386E7
YMax: 1909066.6908999993
Spatial Reference: 102100
(3857)
Initial Extent:
XMin: -1.1123096379E7
YMin: 1894790.5648056937
XMax: -1.1104426951670386E7
YMax: 1909066.6908999993
Spatial Reference: 102100
(3857)
Full Extent:
XMin: -1.1123096379E7
YMin: 1894790.5648056937
XMax: -1.1104426951670386E7
YMax: 1909066.6908999993
Spatial Reference: 102100
(3857)
Pixel Size X: 0.30041720700965097
Pixel Size Y: 0.30041720700965163
Band Count: 4
Pixel Type: U16
RasterFunction Infos: {"rasterFunctionInfos": [{
"name": "None",
"description": "",
"help": ""
}]}
Mensuration Capabilities: Basic
Has Histograms: true
Has Colormap: false
Has Multi Dimensions : false
Rendering Rule:
Min Scale: 0
Max Scale: 0
Copyright Text:
Service Data Type: esriImageServiceDataTypeGeneric
Min Values: 0, 0, 0, 0
Max Values: 65535, 65535, 65535, 65535
Mean Values: 21376.50619856993, 19661.833499195185, 18274.60976253305, 30370.915512777556
Standard Deviation Values: 12448.15448839061, 11115.0414351922, 10857.208427987363, 14921.103890372658
Object ID Field:
Fields:
None
Default Mosaic Method: Center
Allowed Mosaic Methods:
SortField:
SortValue: null
Mosaic Operator: First
Default Compression Quality: 75
Default Resampling Method: Bilinear
Max Record Count: null
Max Image Height: 4100
Max Image Width: 15000
Max Download Image Count: null
Max Mosaic Image Count: null
Allow Raster Function: true
Allow Copy: true
Allow Analysis: true
Allow Compute TiePoints: false
Supports Statistics: false
Supports Advanced Queries: false
Use StandardizedQueries: true
Raster Type Infos:
Name: Raster Dataset
Description: Compatible con todos los datasets de rĂ¡steres de ArcGIS
Help:
Has Raster Attribute Table: false
Edit Fields Info: null
Ownership Based AccessControl For Rasters: null
Child Resources:
Info
Histograms
Statistics
Key Properties
Legend
Raster Function Infos
Supported Operations:
Export Image
Identify
Compute Histograms
Compute Statistics Histograms
Get Samples
Compute Class Statistics
Query Boundary
Compute Pixel Location
Compute Angles
Validate
Project