View In:
ArcGIS JavaScript
ArcGIS Online Map Viewer
ArcGIS Earth
ArcMap
View Footprint In:
ArcGIS Online Map Viewer
Service Description: Hosted/Direfencia2
Name: Hosted/Direfencia2
Description:
Single Fused Map Cache: false
Extent:
XMin: -1.3084305184699569E7
YMin: 4028245.628091914
XMax: -1.308392989660813E7
YMax: 4028619.5467995596
Spatial Reference: 102100
(3857)
Initial Extent:
XMin: -1.3084305184699569E7
YMin: 4028245.628091914
XMax: -1.308392989660813E7
YMax: 4028619.5467995596
Spatial Reference: 102100
(3857)
Full Extent:
XMin: -1.3084305184699569E7
YMin: 4028245.628091914
XMax: -1.308392989660813E7
YMax: 4028619.5467995596
Spatial Reference: 102100
(3857)
Pixel Size X: 0.015386334772651953
Pixel Size Y: 0.015386334772672958
Band Count: 1
Pixel Type: F32
RasterFunction Infos: {"rasterFunctionInfos": [{
"name": "None",
"description": "",
"help": ""
}]}
Mensuration Capabilities: Basic
Has Histograms: false
Has Colormap: false
Has Multi Dimensions : false
Rendering Rule:
Min Scale: 0
Max Scale: 0
Copyright Text:
Service Data Type: esriImageServiceDataTypeGeneric
Min Values: N/A
Max Values: N/A
Mean Values: N/A
Standard Deviation Values: N/A
Object ID Field:
Fields:
None
Default Mosaic Method: Center
Allowed Mosaic Methods:
SortField:
SortValue: null
Mosaic Operator: First
Default Compression Quality: 75
Default Resampling Method: Bilinear
Max Record Count: null
Max Image Height: 4100
Max Image Width: 15000
Max Download Image Count: null
Max Mosaic Image Count: null
Allow Raster Function: true
Allow Copy: true
Allow Analysis: true
Allow Compute TiePoints: false
Supports Statistics: false
Supports Advanced Queries: false
Use StandardizedQueries: true
Raster Type Infos:
Name: Raster Dataset
Description: Compatible con todos los datasets de rĂ¡steres de ArcGIS
Help:
Has Raster Attribute Table: false
Edit Fields Info: null
Ownership Based AccessControl For Rasters: null
Child Resources:
Info
Statistics
Key Properties
Legend
Raster Function Infos
Supported Operations:
Export Image
Identify
Measure
Compute Histograms
Compute Statistics Histograms
Get Samples
Compute Class Statistics
Query Boundary
Compute Pixel Location
Compute Angles
Validate
Project