View In:
ArcGIS JavaScript
ArcGIS Online Map Viewer
ArcGIS Earth
ArcMap
View Footprint In:
ArcGIS Online Map Viewer
Service Description: Hosted/Tuberias_Clasificacion
Name: Hosted/Tuberias_Clasificacion
Description:
Single Fused Map Cache: false
Extent:
XMin: -1.3084281361534217E7
YMin: 4028302.182137412
XMax: -1.3083962068054918E7
YMax: 4028585.444655065
Spatial Reference: 102100
(3857)
Initial Extent:
XMin: -1.3084281361534217E7
YMin: 4028302.182137412
XMax: -1.3083962068054918E7
YMax: 4028585.444655065
Spatial Reference: 102100
(3857)
Full Extent:
XMin: -1.3084281361534217E7
YMin: 4028302.182137412
XMax: -1.3083962068054918E7
YMax: 4028585.444655065
Spatial Reference: 102100
(3857)
Pixel Size X: 0.01274980949962755
Pixel Size Y: 0.01274980949961471
Band Count: 1
Pixel Type: S32
RasterFunction Infos: {"rasterFunctionInfos": [{
"name": "None",
"description": "",
"help": ""
}]}
Mensuration Capabilities: Basic
Has Histograms: true
Has Colormap: false
Has Multi Dimensions : false
Rendering Rule:
Min Scale: 0
Max Scale: 0
Copyright Text:
Service Data Type: esriImageServiceDataTypeThematic
Min Values: 0
Max Values: 1
Mean Values: 0.0039687204542818
Standard Deviation Values: 0.062872646829659
Object ID Field:
Fields:
None
Default Mosaic Method: Center
Allowed Mosaic Methods:
SortField:
SortValue: null
Mosaic Operator: First
Default Compression Quality: 75
Default Resampling Method: Nearest
Max Record Count: null
Max Image Height: 4100
Max Image Width: 15000
Max Download Image Count: null
Max Mosaic Image Count: null
Allow Raster Function: true
Allow Copy: true
Allow Analysis: true
Allow Compute TiePoints: false
Supports Statistics: false
Supports Advanced Queries: false
Use StandardizedQueries: true
Raster Type Infos:
Name: Raster Dataset
Description: Compatible con todos los datasets de rĂ¡steres de ArcGIS
Help:
Has Raster Attribute Table: true
Edit Fields Info: null
Ownership Based AccessControl For Rasters: null
Child Resources:
Info
Raster Attribute Table
Histograms
Statistics
Key Properties
Legend
Raster Function Infos
Supported Operations:
Export Image
Identify
Measure
Compute Histograms
Compute Statistics Histograms
Get Samples
Compute Class Statistics
Query Boundary
Compute Pixel Location
Compute Angles
Validate
Project