View In:
ArcGIS JavaScript
ArcGIS Online Map Viewer
ArcGIS Earth
ArcMap
View Footprint In:
ArcGIS Online Map Viewer
Service Description: Hosted/WorldView_4_Multispectral_ORStandard2A_Acapulco_050417_Ok
Name: Hosted/WorldView_4_Multispectral_ORStandard2A_Acapulco_050417_Ok
Description:
Single Fused Map Cache: true
Tile Info:
- Height: 256
- Width: 256
- DPI: 96
-
Levels of Detail: 7
-
Level ID: 0
[ Start Tile, End Tile ]
- Resolution: 76.90678573696324
- Scale: 290670.7348285673
-
Level ID: 1
[ Start Tile, End Tile ]
- Resolution: 38.45339286848162
- Scale: 145335.36741428365
-
Level ID: 2
[ Start Tile, End Tile ]
- Resolution: 19.22669643424081
- Scale: 72667.68370714183
-
Level ID: 3
[ Start Tile, End Tile ]
- Resolution: 9.613348217120405
- Scale: 36333.84185357091
-
Level ID: 4
[ Start Tile, End Tile ]
- Resolution: 4.806674108560203
- Scale: 18166.920926785457
-
Level ID: 5
[ Start Tile, End Tile ]
- Resolution: 2.4033370542801014
- Scale: 9083.460463392728
-
Level ID: 6
[ Start Tile, End Tile ]
- Resolution: 1.2016685271400507
- Scale: 4541.730231696364
- Format: LERC2D
- Compression Quality: 100000.0
- LERC Error: 0.1
- Origin: X: -1.1123096402E7
Y: 1909058.2634000008
- Spatial Reference: 102100
(3857)
Storage Info:
- Storage Format: esriMapCacheStorageModeCompactV2
- Packet Size: 12
Extent:
XMin: -1.1123096402E7
YMin: 1894789.6513087398
XMax: -1.1104426078093825E7
YMax: 1909058.2634000008
Spatial Reference: 102100
(3857)
Initial Extent:
XMin: -1.1123096402E7
YMin: 1894789.6513087398
XMax: -1.1104426078093825E7
YMax: 1909058.2634000008
Spatial Reference: 102100
(3857)
Full Extent:
XMin: -1.1123096402E7
YMin: 1894789.6513087398
XMax: -1.1104426078093825E7
YMax: 1909058.2634000008
Spatial Reference: 102100
(3857)
Pixel Size X: 1.2016685271401037
Pixel Size Y: 1.2016685271400507
Band Count: 4
Pixel Type: U16
RasterFunction Infos: {"rasterFunctionInfos": [{
"name": "None",
"description": "",
"help": ""
}]}
Mensuration Capabilities: Basic
Has Histograms: true
Has Colormap: false
Has Multi Dimensions : false
Rendering Rule:
Min Scale: 0
Max Scale: 0
Copyright Text:
Service Data Type: esriImageServiceDataTypeGeneric
Min Values: 0, 0, 0, 0
Max Values: 65535, 65535, 65535, 65535
Mean Values: 18749.60282094079, 20335.129970157177, 22137.70879925609, 30853.834702155495
Standard Deviation Values: 10187.240008331952, 10163.504830923912, 11417.0529556826, 13887.30348614325
Object ID Field:
Fields:
None
Default Mosaic Method: Center
Allowed Mosaic Methods:
SortField:
SortValue: null
Mosaic Operator: First
Default Compression Quality: 75
Default Resampling Method: Nearest
Max Record Count: null
Max Image Height: 4100
Max Image Width: 15000
Max Download Image Count: null
Max Mosaic Image Count: null
Allow Raster Function: true
Allow Copy: true
Allow Analysis: true
Allow Compute TiePoints: false
Supports Statistics: false
Supports Advanced Queries: false
Use StandardizedQueries: true
Raster Type Infos:
Name: Raster Dataset
Description: Compatible con todos los datasets de rĂ¡steres de ArcGIS
Help:
Has Raster Attribute Table: false
Edit Fields Info: null
Ownership Based AccessControl For Rasters: null
Child Resources:
Info
Histograms
Statistics
Key Properties
Legend
Raster Function Infos
Supported Operations:
Export Image
Identify
Compute Histograms
Compute Statistics Histograms
Get Samples
Compute Class Statistics
Query Boundary
Compute Pixel Location
Compute Angles
Validate
Project