View In:
ArcGIS JavaScript
ArcGIS Online Map Viewer
ArcGIS Earth
ArcMap
View Footprint In:
ArcGIS Online Map Viewer
Service Description: Hosted/DiffElev
Name: Hosted/DiffElev
Description:
Single Fused Map Cache: false
Extent:
XMin: 6701452.98416
YMin: 1821200.2327800002
XMax: 6702628.15926
YMax: 1822208.9824299999
Spatial Reference: 2874
(2874)
Initial Extent:
XMin: 6701452.98416
YMin: 1821200.2327800002
XMax: 6702628.15926
YMax: 1822208.9824299999
Spatial Reference: 2874
(2874)
Full Extent:
XMin: 6701452.98416
YMin: 1821200.2327800002
XMax: 6702628.15926
YMax: 1822208.9824299999
Spatial Reference: 2874
(2874)
Pixel Size X: 0.09354999999997166
Pixel Size Y: 0.09354999999996877
Band Count: 1
Pixel Type: F32
RasterFunction Infos: {"rasterFunctionInfos": [{
"name": "None",
"description": "",
"help": ""
}]}
Mensuration Capabilities: Basic
Has Histograms: false
Has Colormap: false
Has Multi Dimensions : false
Rendering Rule:
Min Scale: 0
Max Scale: 0
Copyright Text:
Service Data Type: esriImageServiceDataTypeGeneric
Min Values: -42.561645507812
Max Values: 34.437561035156
Mean Values: 3.9257705714052
Standard Deviation Values: 7.8683336751655
Object ID Field:
Fields:
None
Default Mosaic Method: Center
Allowed Mosaic Methods:
SortField:
SortValue: null
Mosaic Operator: First
Default Compression Quality: 75
Default Resampling Method: Bilinear
Max Record Count: null
Max Image Height: 4100
Max Image Width: 15000
Max Download Image Count: null
Max Mosaic Image Count: null
Allow Raster Function: true
Allow Copy: true
Allow Analysis: true
Allow Compute TiePoints: false
Supports Statistics: false
Supports Advanced Queries: false
Use StandardizedQueries: true
Raster Type Infos:
Name: Raster Dataset
Description: Compatible con todos los datasets de rĂ¡steres de ArcGIS
Help:
Has Raster Attribute Table: false
Edit Fields Info: null
Ownership Based AccessControl For Rasters: null
Child Resources:
Info
Statistics
Key Properties
Legend
Raster Function Infos
Supported Operations:
Export Image
Identify
Measure
Compute Histograms
Compute Statistics Histograms
Get Samples
Compute Class Statistics
Query Boundary
Compute Pixel Location
Compute Angles
Validate
Project