View In:
ArcGIS JavaScript
ArcGIS Online Map Viewer
ArcGIS Earth
ArcMap
View Footprint In:
ArcGIS Online Map Viewer
Service Description: Hosted/K9DTM_1_Digital_Terrain_Model
Name: Hosted/K9DTM_1_Digital_Terrain_Model
Description:
Single Fused Map Cache: false
Extent:
XMin: 450261.7866468433
YMin: 3761844.613414255
XMax: 450578.8085344879
YMax: 3762115.457604385
Spatial Reference: 32611
(32611)
Initial Extent:
XMin: 450261.7866468433
YMin: 3761844.613414255
XMax: 450578.8085344879
YMax: 3762115.457604385
Spatial Reference: 32611
(32611)
Full Extent:
XMin: 450261.7866468433
YMin: 3761844.613414255
XMax: 450578.8085344879
YMax: 3762115.457604385
Spatial Reference: 32611
(32611)
Pixel Size X: 0.07496379466649362
Pixel Size Y: 0.07496379466648498
Band Count: 1
Pixel Type: F32
RasterFunction Infos: {"rasterFunctionInfos": [{
"name": "None",
"description": "",
"help": ""
}]}
Mensuration Capabilities: Basic
Has Histograms: false
Has Colormap: false
Has Multi Dimensions : false
Rendering Rule:
Min Scale: 0
Max Scale: 0
Copyright Text:
Service Data Type: esriImageServiceDataTypeGeneric
Min Values: 222.97282409668
Max Values: 229.8671875
Mean Values: 227.06815629052
Standard Deviation Values: 1.4816031885111
Object ID Field:
Fields:
None
Default Mosaic Method: Center
Allowed Mosaic Methods:
SortField:
SortValue: null
Mosaic Operator: First
Default Compression Quality: 75
Default Resampling Method: Bilinear
Max Record Count: null
Max Image Height: 4100
Max Image Width: 15000
Max Download Image Count: null
Max Mosaic Image Count: null
Allow Raster Function: true
Allow Copy: true
Allow Analysis: true
Allow Compute TiePoints: false
Supports Statistics: false
Supports Advanced Queries: false
Use StandardizedQueries: true
Raster Type Infos:
Name: Raster Dataset
Description: Compatible con todos los datasets de rĂ¡steres de ArcGIS
Help:
Has Raster Attribute Table: false
Edit Fields Info: null
Ownership Based AccessControl For Rasters: null
Child Resources:
Info
Statistics
Key Properties
Legend
Raster Function Infos
Supported Operations:
Export Image
Identify
Measure
Compute Histograms
Compute Statistics Histograms
Get Samples
Compute Class Statistics
Query Boundary
Compute Pixel Location
Compute Angles
Validate
Project