View In:
ArcGIS JavaScript
ArcGIS Online Map Viewer
ArcGIS Earth
ArcMap
View Footprint In:
ArcGIS Online Map Viewer
Service Description: Hosted/Landsat8_Multiespectral_L1_Michoacan_080322
Name: Hosted/Landsat8_Multiespectral_L1_Michoacan_080322
Description:
Single Fused Map Cache: true
Tile Info:
- Height: 256
- Width: 256
- DPI: 96
-
Levels of Detail: 6
- Format: LERC2D
- Compression Quality: 100000.0
- LERC Error: 0.1
- Origin: X: -1.1498832130334325E7
Y: 2253889.227117811
- Spatial Reference: 102100
(3857)
Storage Info:
- Storage Format: esriMapCacheStorageModeCompactV2
- Packet Size: 8
Extent:
XMin: -1.1498832130334325E7
YMin: 2005249.2271178109
XMax: -1.1256942130334325E7
YMax: 2253889.227117811
Spatial Reference: 102100
(3857)
Initial Extent:
XMin: -1.1498832130334325E7
YMin: 2005249.2271178109
XMax: -1.1256942130334325E7
YMax: 2253889.227117811
Spatial Reference: 102100
(3857)
Full Extent:
XMin: -1.1498832130334325E7
YMin: 2005249.2271178109
XMax: -1.1256942130334325E7
YMax: 2253889.227117811
Spatial Reference: 102100
(3857)
Pixel Size X: 30.0
Pixel Size Y: 30.0
Band Count: 8
Pixel Type: U16
RasterFunction Infos: {"rasterFunctionInfos": [{
"name": "None",
"description": "",
"help": ""
}]}
Mensuration Capabilities: Basic,Base-Top Shadow Height
Has Histograms: true
Has Colormap: false
Has Multi Dimensions : false
Rendering Rule:
Min Scale: 0
Max Scale: 0
Copyright Text:
Service Data Type: esriImageServiceDataTypeGeneric
Min Values: 0, 0, 0, 0, 0, 0, 0, 0
Max Values: 65535, 65535, 65535, 65535, 65535, 65535, 65535, 65535
Mean Values: 40504.79356515176, 38572.96642924974, 35147.979948618966, 34643.16316984299, 42397.169603832495, 42426.67192870961, 41026.7470541806, 42188.81951845324
Standard Deviation Values: 9503.613271409115, 9715.543949904406, 10950.280510074977, 12850.345233075343, 11703.77324798882, 12831.426102839387, 12586.090507679372, 6504.196572555864
Object ID Field:
Fields:
None
Default Mosaic Method: Center
Allowed Mosaic Methods:
SortField:
SortValue: null
Mosaic Operator: First
Default Compression Quality: 75
Default Resampling Method: Nearest
Max Record Count: null
Max Image Height: 4100
Max Image Width: 15000
Max Download Image Count: null
Max Mosaic Image Count: null
Allow Raster Function: true
Allow Copy: true
Allow Analysis: true
Allow Compute TiePoints: false
Supports Statistics: false
Supports Advanced Queries: false
Use StandardizedQueries: true
Raster Type Infos:
Name: Raster Dataset
Description: Compatible con todos los datasets de rĂ¡steres de ArcGIS
Help:
Has Raster Attribute Table: false
Edit Fields Info: null
Ownership Based AccessControl For Rasters: null
Child Resources:
Info
Histograms
Statistics
Key Properties
Legend
Raster Function Infos
Supported Operations:
Export Image
Identify
Compute Histograms
Compute Statistics Histograms
Get Samples
Compute Class Statistics
Query Boundary
Compute Pixel Location
Compute Angles
Validate
Project