View In:
ArcGIS JavaScript
ArcGIS Online Map Viewer
ArcGIS Earth
ArcMap
View Footprint In:
ArcGIS Online Map Viewer
Service Description: Hosted/Ortofotos_4_6cm_Pachuca_Hidalgo_ok
Name: Hosted/Ortofotos_4_6cm_Pachuca_Hidalgo_ok
Description:
Single Fused Map Cache: true
Tile Info:
- Height: 256
- Width: 256
- DPI: 96
-
Levels of Detail: 7
-
Level ID: 0
[ Start Tile, End Tile ]
- Resolution: 2.955295999999044
- Scale: 11169.600337916387
-
Level ID: 1
[ Start Tile, End Tile ]
- Resolution: 1.477647999999522
- Scale: 5584.800168958193
-
Level ID: 2
[ Start Tile, End Tile ]
- Resolution: 0.738823999999761
- Scale: 2792.4000844790967
-
Level ID: 3
[ Start Tile, End Tile ]
- Resolution: 0.3694119999998805
- Scale: 1396.2000422395483
-
Level ID: 4
[ Start Tile, End Tile ]
- Resolution: 0.18470599999994025
- Scale: 698.1000211197742
-
Level ID: 5
[ Start Tile, End Tile ]
- Resolution: 0.09235299999997013
- Scale: 349.0500105598871
-
Level ID: 6
[ Start Tile, End Tile ]
- Resolution: 0.04617649999998506
- Scale: 174.52500527994354
- Format: LERC2D
- Compression Quality: 100000.0
- LERC Error: 0.1
- Origin: X: -1.0991467390861293E7
Y: 2288415.0867820946
- Spatial Reference: 102100
(3857)
Storage Info:
- Storage Format: esriMapCacheStorageModeCompactV2
- Packet Size: 16
Extent:
XMin: -1.0991467390861293E7
YMin: 2287715.882219095
XMax: -1.0990446982564293E7
YMax: 2288415.0867820946
Spatial Reference: 102100
(3857)
Initial Extent:
XMin: -1.0991467390861293E7
YMin: 2287715.882219095
XMax: -1.0990446982564293E7
YMax: 2288415.0867820946
Spatial Reference: 102100
(3857)
Full Extent:
XMin: -1.0991467390861293E7
YMin: 2287715.882219095
XMax: -1.0990446982564293E7
YMax: 2288415.0867820946
Spatial Reference: 102100
(3857)
Pixel Size X: 0.04617650000002049
Pixel Size Y: 0.04617649999998506
Band Count: 4
Pixel Type: U8
RasterFunction Infos: {"rasterFunctionInfos": [{
"name": "None",
"description": "",
"help": ""
}]}
Mensuration Capabilities: Basic
Has Histograms: true
Has Colormap: false
Has Multi Dimensions : false
Rendering Rule:
Min Scale: 0
Max Scale: 0
Copyright Text:
Service Data Type: esriImageServiceDataTypeGeneric
Min Values: 0, 0, 0, 255
Max Values: 255, 255, 255, 255
Mean Values: 157.50031813945782, 145.90456701406634, 141.55872139181625, 255
Standard Deviation Values: 45.577344084368846, 50.37152350265817, 50.8477428414199, 0
Object ID Field:
Fields:
None
Default Mosaic Method: Center
Allowed Mosaic Methods:
SortField:
SortValue: null
Mosaic Operator: First
Default Compression Quality: 75
Default Resampling Method: Bicubic
Max Record Count: null
Max Image Height: 4100
Max Image Width: 15000
Max Download Image Count: null
Max Mosaic Image Count: null
Allow Raster Function: true
Allow Copy: true
Allow Analysis: true
Allow Compute TiePoints: false
Supports Statistics: false
Supports Advanced Queries: false
Use StandardizedQueries: true
Raster Type Infos:
Name: Raster Dataset
Description: Compatible con todos los datasets de rĂ¡steres de ArcGIS
Help:
Has Raster Attribute Table: false
Edit Fields Info: null
Ownership Based AccessControl For Rasters: null
Child Resources:
Info
Histograms
Statistics
Key Properties
Legend
Raster Function Infos
Supported Operations:
Export Image
Identify
Compute Histograms
Compute Statistics Histograms
Get Samples
Compute Class Statistics
Query Boundary
Compute Pixel Location
Compute Angles
Validate
Project