View In:
ArcGIS JavaScript
ArcGIS Online Map Viewer
ArcGIS Earth
ArcMap
View Footprint In:
ArcGIS Online Map Viewer
Service Description: Hosted/Ortofotos_Dron_2cm_RealdelCastilloNuevo_BC_ok
Name: Hosted/Ortofotos_Dron_2cm_RealdelCastilloNuevo_BC_ok
Description:
Single Fused Map Cache: true
Tile Info:
- Height: 256
- Width: 256
- DPI: 96
-
Levels of Detail: 8
-
Level ID: 0
[ Start Tile, End Tile ]
- Resolution: 2.6841599999991197
- Scale: 10144.836403196672
-
Level ID: 1
[ Start Tile, End Tile ]
- Resolution: 1.3420799999995598
- Scale: 5072.418201598336
-
Level ID: 2
[ Start Tile, End Tile ]
- Resolution: 0.6710399999997799
- Scale: 2536.209100799168
-
Level ID: 3
[ Start Tile, End Tile ]
- Resolution: 0.33551999999988996
- Scale: 1268.104550399584
-
Level ID: 4
[ Start Tile, End Tile ]
- Resolution: 0.16775999999994498
- Scale: 634.052275199792
-
Level ID: 5
[ Start Tile, End Tile ]
- Resolution: 0.08387999999997249
- Scale: 317.026137599896
-
Level ID: 6
[ Start Tile, End Tile ]
- Resolution: 0.041939999999986245
- Scale: 158.513068799948
-
Level ID: 7
[ Start Tile, End Tile ]
- Resolution: 0.020969999999993123
- Scale: 79.256534399974
- Format: LERC2D
- Compression Quality: 100000.0
- LERC Error: 0.1
- Origin: X: -1.2942905752823502E7
Y: 3751166.9339613295
- Spatial Reference: 102100
(3857)
Storage Info:
- Storage Format: esriMapCacheStorageModeCompactV2
- Packet Size: 16
Extent:
XMin: -1.2942905752823502E7
YMin: 3750369.80135133
XMax: -1.2942246141473502E7
YMax: 3751166.9339613295
Spatial Reference: 102100
(3857)
Initial Extent:
XMin: -1.2942905752823502E7
YMin: 3750369.80135133
XMax: -1.2942246141473502E7
YMax: 3751166.9339613295
Spatial Reference: 102100
(3857)
Full Extent:
XMin: -1.2942905752823502E7
YMin: 3750369.80135133
XMax: -1.2942246141473502E7
YMax: 3751166.9339613295
Spatial Reference: 102100
(3857)
Pixel Size X: 0.020969999999996967
Pixel Size Y: 0.020969999999993123
Band Count: 4
Pixel Type: U8
RasterFunction Infos: {"rasterFunctionInfos": [{
"name": "None",
"description": "",
"help": ""
}]}
Mensuration Capabilities: Basic
Has Histograms: true
Has Colormap: false
Has Multi Dimensions : false
Rendering Rule:
Min Scale: 0
Max Scale: 0
Copyright Text:
Service Data Type: esriImageServiceDataTypeGeneric
Min Values: 0, 0, 0, 255
Max Values: 255, 255, 255, 255
Mean Values: 162.07117771004647, 147.32449318221958, 127.8167976681992, 255
Standard Deviation Values: 50.81298855005054, 46.384648348732014, 41.26262850476326, 0
Object ID Field:
Fields:
None
Default Mosaic Method: Center
Allowed Mosaic Methods:
SortField:
SortValue: null
Mosaic Operator: First
Default Compression Quality: 75
Default Resampling Method: Bicubic
Max Record Count: null
Max Image Height: 4100
Max Image Width: 15000
Max Download Image Count: null
Max Mosaic Image Count: null
Allow Raster Function: true
Allow Copy: true
Allow Analysis: true
Allow Compute TiePoints: false
Supports Statistics: false
Supports Advanced Queries: false
Use StandardizedQueries: true
Raster Type Infos:
Name: Raster Dataset
Description: Compatible con todos los datasets de rĂ¡steres de ArcGIS
Help:
Has Raster Attribute Table: false
Edit Fields Info: null
Ownership Based AccessControl For Rasters: null
Child Resources:
Info
Histograms
Statistics
Key Properties
Legend
Raster Function Infos
Supported Operations:
Export Image
Identify
Compute Histograms
Compute Statistics Histograms
Get Samples
Compute Class Statistics
Query Boundary
Compute Pixel Location
Compute Angles
Validate
Project