View In:
ArcGIS JavaScript
ArcGIS Online Map Viewer
ArcGIS Earth
ArcMap
View Footprint In:
ArcGIS Online Map Viewer
Service Description: Hosted/PachucaCentro_AntiguaUAEH_ortofotos_oblicua
Name: Hosted/PachucaCentro_AntiguaUAEH_ortofotos_oblicua
Description:
Single Fused Map Cache: true
Tile Info:
- Height: 256
- Width: 256
- DPI: 96
-
Levels of Detail: 7
-
Level ID: 0
[ Start Tile, End Tile ]
- Resolution: 3.72253946108392
- Scale: 14069.412343955897
-
Level ID: 1
[ Start Tile, End Tile ]
- Resolution: 1.86126973054196
- Scale: 7034.7061719779485
-
Level ID: 2
[ Start Tile, End Tile ]
- Resolution: 0.93063486527098
- Scale: 3517.3530859889743
-
Level ID: 3
[ Start Tile, End Tile ]
- Resolution: 0.46531743263549
- Scale: 1758.6765429944871
-
Level ID: 4
[ Start Tile, End Tile ]
- Resolution: 0.232658716317745
- Scale: 879.3382714972436
-
Level ID: 5
[ Start Tile, End Tile ]
- Resolution: 0.1163293581588725
- Scale: 439.6691357486218
-
Level ID: 6
[ Start Tile, End Tile ]
- Resolution: 0.05816467907943625
- Scale: 219.8345678743109
- Format: LERC2D
- Compression Quality: 100000.0
- LERC Error: 0.1
- Origin: X: -1.099145405493703E7
Y: 2288460.020201191
- Spatial Reference: 102100
(3857)
Storage Info:
- Storage Format: esriMapCacheStorageModeCompactV2
- Packet Size: 16
Extent:
XMin: -1.099145405493703E7
YMin: 2287735.4627938983
XMax: -1.0990723681061829E7
YMax: 2288460.020201191
Spatial Reference: 102100
(3857)
Initial Extent:
XMin: -1.099145405493703E7
YMin: 2287735.4627938983
XMax: -1.0990723681061829E7
YMax: 2288460.020201191
Spatial Reference: 102100
(3857)
Full Extent:
XMin: -1.099145405493703E7
YMin: 2287735.4627938983
XMax: -1.0990723681061829E7
YMax: 2288460.020201191
Spatial Reference: 102100
(3857)
Pixel Size X: 0.05816467907945755
Pixel Size Y: 0.05816467907943625
Band Count: 3
Pixel Type: U8
RasterFunction Infos: {"rasterFunctionInfos": [{
"name": "None",
"description": "",
"help": ""
}]}
Mensuration Capabilities: Basic
Has Histograms: true
Has Colormap: false
Has Multi Dimensions : false
Rendering Rule:
Min Scale: 0
Max Scale: 0
Copyright Text:
Service Data Type: esriImageServiceDataTypeRGB
Min Values: 0, 0, 0
Max Values: 255, 255, 255
Mean Values: 108.53474019659511, 99.0412040477838, 96.28209039870447
Standard Deviation Values: 43.54496040656602, 45.77658353577862, 44.31826722369003
Object ID Field:
Fields:
None
Default Mosaic Method: Center
Allowed Mosaic Methods:
SortField:
SortValue: null
Mosaic Operator: First
Default Compression Quality: 75
Default Resampling Method: Bicubic
Max Record Count: null
Max Image Height: 4100
Max Image Width: 15000
Max Download Image Count: null
Max Mosaic Image Count: null
Allow Raster Function: true
Allow Copy: true
Allow Analysis: true
Allow Compute TiePoints: false
Supports Statistics: false
Supports Advanced Queries: false
Use StandardizedQueries: true
Raster Type Infos:
Name: Raster Dataset
Description: Compatible con todos los datasets de rĂ¡steres de ArcGIS
Help:
Has Raster Attribute Table: false
Edit Fields Info: null
Ownership Based AccessControl For Rasters: null
Child Resources:
Info
Histograms
Statistics
Key Properties
Legend
Raster Function Infos
Supported Operations:
Export Image
Identify
Compute Histograms
Compute Statistics Histograms
Get Samples
Compute Class Statistics
Query Boundary
Compute Pixel Location
Compute Angles
Validate
Project