View In:
ArcGIS JavaScript
ArcGIS Online Map Viewer
ArcGIS Earth
ArcMap
View Footprint In:
ArcGIS Online Map Viewer
Service Description: Hosted/PachucaCentro_Reloj_ortofotos_oblicua_ok
Name: Hosted/PachucaCentro_Reloj_ortofotos_oblicua_ok
Description:
Single Fused Map Cache: true
Tile Info:
- Height: 256
- Width: 256
- DPI: 96
-
Levels of Detail: 7
-
Level ID: 1
[ Start Tile, End Tile ]
- Resolution: 1.8953128371593484
- Scale: 7163.3727743005
-
Level ID: 2
[ Start Tile, End Tile ]
- Resolution: 0.9476564185796742
- Scale: 3581.68638715025
-
Level ID: 3
[ Start Tile, End Tile ]
- Resolution: 0.4738282092898371
- Scale: 1790.843193575125
-
Level ID: 4
[ Start Tile, End Tile ]
- Resolution: 0.23691410464491855
- Scale: 895.4215967875625
-
Level ID: 5
[ Start Tile, End Tile ]
- Resolution: 0.11845705232245927
- Scale: 447.71079839378126
-
Level ID: 6
[ Start Tile, End Tile ]
- Resolution: 0.05922852616122964
- Scale: 223.85539919689063
- Format: LERC2D
- Compression Quality: 100000.0
- LERC Error: 0.1
- Origin: X: -1.0991191848250179E7
Y: 2288691.5791877955
- Spatial Reference: 102100
(3857)
Storage Info:
- Storage Format: esriMapCacheStorageModeCompactV2
- Packet Size: 16
Extent:
XMin: -1.0991191848250179E7
YMin: 2287953.8286659312
XMax: -1.0990491470928323E7
YMax: 2288691.5791877955
Spatial Reference: 102100
(3857)
Initial Extent:
XMin: -1.0991191848250179E7
YMin: 2287953.8286659312
XMax: -1.0990491470928323E7
YMax: 2288691.5791877955
Spatial Reference: 102100
(3857)
Full Extent:
XMin: -1.0991191848250179E7
YMin: 2287953.8286659312
XMax: -1.0990491470928323E7
YMax: 2288691.5791877955
Spatial Reference: 102100
(3857)
Pixel Size X: 0.059228526161192084
Pixel Size Y: 0.05922852616122964
Band Count: 3
Pixel Type: U8
RasterFunction Infos: {"rasterFunctionInfos": [{
"name": "None",
"description": "",
"help": ""
}]}
Mensuration Capabilities: Basic
Has Histograms: true
Has Colormap: false
Has Multi Dimensions : false
Rendering Rule:
Min Scale: 0
Max Scale: 0
Copyright Text:
Service Data Type: esriImageServiceDataTypeRGB
Min Values: 0, 0, 0
Max Values: 255, 255, 255
Mean Values: 137.21735993524373, 125.19986318397065, 117.16017651264244
Standard Deviation Values: 46.69918910588101, 48.678150857480645, 46.933856936633966
Object ID Field:
Fields:
None
Default Mosaic Method: Center
Allowed Mosaic Methods:
SortField:
SortValue: null
Mosaic Operator: First
Default Compression Quality: 75
Default Resampling Method: Bicubic
Max Record Count: null
Max Image Height: 4100
Max Image Width: 15000
Max Download Image Count: null
Max Mosaic Image Count: null
Allow Raster Function: true
Allow Copy: true
Allow Analysis: true
Allow Compute TiePoints: false
Supports Statistics: false
Supports Advanced Queries: false
Use StandardizedQueries: true
Raster Type Infos:
Name: Raster Dataset
Description: Compatible con todos los datasets de rĂ¡steres de ArcGIS
Help:
Has Raster Attribute Table: false
Edit Fields Info: null
Ownership Based AccessControl For Rasters: null
Child Resources:
Info
Histograms
Statistics
Key Properties
Legend
Raster Function Infos
Supported Operations:
Export Image
Identify
Compute Histograms
Compute Statistics Histograms
Get Samples
Compute Class Statistics
Query Boundary
Compute Pixel Location
Compute Angles
Validate
Project