View In:
ArcGIS JavaScript
ArcGIS Online Map Viewer
ArcGIS Earth
ArcMap
View Footprint In:
ArcGIS Online Map Viewer
Service Description: Hosted/Residencial_SianKaanII_Merida
Name: Hosted/Residencial_SianKaanII_Merida
Description:
Single Fused Map Cache: true
Tile Info:
- Height: 256
- Width: 256
- DPI: 96
-
Levels of Detail: 8
-
Level ID: 0
[ Start Tile, End Tile ]
- Resolution: 12.799999999996938
- Scale: 48377.855999988424
-
Level ID: 1
[ Start Tile, End Tile ]
- Resolution: 6.399999999998469
- Scale: 24188.927999994212
-
Level ID: 2
[ Start Tile, End Tile ]
- Resolution: 3.1999999999992346
- Scale: 12094.463999997106
-
Level ID: 3
[ Start Tile, End Tile ]
- Resolution: 1.5999999999996173
- Scale: 6047.231999998553
-
Level ID: 4
[ Start Tile, End Tile ]
- Resolution: 0.7999999999998086
- Scale: 3023.6159999992765
-
Level ID: 5
[ Start Tile, End Tile ]
- Resolution: 0.3999999999999043
- Scale: 1511.8079999996382
-
Level ID: 6
[ Start Tile, End Tile ]
- Resolution: 0.19999999999995216
- Scale: 755.9039999998191
-
Level ID: 7
[ Start Tile, End Tile ]
- Resolution: 0.09999999999997608
- Scale: 377.95199999990956
- Format: LERC2D
- Compression Quality: 100000.0
- LERC Error: 0.1
- Origin: X: -9986709.845034609
Y: 2390975.319338448
- Spatial Reference: 102100
(3857)
Storage Info:
- Storage Format: esriMapCacheStorageModeCompactV2
- Packet Size: 16
Extent:
XMin: -9986709.845034609
YMin: 2389102.8193384483
XMax: -9983594.14503461
YMax: 2390975.319338448
Spatial Reference: 102100
(3857)
Initial Extent:
XMin: -9986709.845034609
YMin: 2389102.8193384483
XMax: -9983594.14503461
YMax: 2390975.319338448
Spatial Reference: 102100
(3857)
Full Extent:
XMin: -9986709.845034609
YMin: 2389102.8193384483
XMax: -9983594.14503461
YMax: 2390975.319338448
Spatial Reference: 102100
(3857)
Pixel Size X: 0.09999999999997608
Pixel Size Y: 0.09999999999997514
Band Count: 3
Pixel Type: U8
RasterFunction Infos: {"rasterFunctionInfos": [{
"name": "None",
"description": "",
"help": ""
}]}
Mensuration Capabilities: Basic
Has Histograms: true
Has Colormap: false
Has Multi Dimensions : false
Rendering Rule:
Min Scale: 0
Max Scale: 0
Copyright Text:
Service Data Type: esriImageServiceDataTypeProcessed
Min Values: 0, 0, 0
Max Values: 255, 255, 255
Mean Values: 96.36631295473613, 99.56853765974509, 87.96850786529319
Standard Deviation Values: 63.61424991483697, 58.65953309105416, 57.12626662987835
Object ID Field:
Fields:
None
Default Mosaic Method: Center
Allowed Mosaic Methods:
SortField:
SortValue: null
Mosaic Operator: First
Default Compression Quality: 75
Default Resampling Method: Bicubic
Max Record Count: null
Max Image Height: 4100
Max Image Width: 15000
Max Download Image Count: null
Max Mosaic Image Count: null
Allow Raster Function: true
Allow Copy: true
Allow Analysis: true
Allow Compute TiePoints: false
Supports Statistics: false
Supports Advanced Queries: false
Use StandardizedQueries: true
Raster Type Infos:
Name: Raster Dataset
Description: Compatible con todos los datasets de rĂ¡steres de ArcGIS
Help:
Has Raster Attribute Table: false
Edit Fields Info: null
Ownership Based AccessControl For Rasters: null
Child Resources:
Info
Histograms
Statistics
Key Properties
Legend
Raster Function Infos
Supported Operations:
Export Image
Identify
Compute Histograms
Compute Statistics Histograms
Get Samples
Compute Class Statistics
Query Boundary
Compute Pixel Location
Compute Angles
Validate
Project