View In:
ArcGIS JavaScript
ArcGIS Online Map Viewer
ArcGIS Earth
ArcMap
View Footprint In:
ArcGIS Online Map Viewer
Service Description: Hosted/Sentinel2_1C_01192022
Name: Hosted/Sentinel2_1C_01192022
Description:
Single Fused Map Cache: true
Tile Info:
- Height: 256
- Width: 256
- DPI: 96
-
Levels of Detail: 7
- Format: LERC2D
- Compression Quality: 100000.0
- LERC Error: 0.1
- Origin: X: -1.000753066239278E7
Y: 2474732.443413151
- Spatial Reference: 102100
(3857)
Storage Info:
- Storage Format: esriMapCacheStorageModeCompactV2
- Packet Size: 8
Extent:
XMin: -1.000753066239278E7
YMin: 2354622.443413151
XMax: -9888110.66239278
YMax: 2474732.443413151
Spatial Reference: 102100
(3857)
Initial Extent:
XMin: -1.000753066239278E7
YMin: 2354622.443413151
XMax: -9888110.66239278
YMax: 2474732.443413151
Spatial Reference: 102100
(3857)
Full Extent:
XMin: -1.000753066239278E7
YMin: 2354622.443413151
XMax: -9888110.66239278
YMax: 2474732.443413151
Spatial Reference: 102100
(3857)
Pixel Size X: 10.0
Pixel Size Y: 10.0
Band Count: 13
Pixel Type: U16
RasterFunction Infos: {"rasterFunctionInfos": [{
"name": "None",
"description": "",
"help": ""
}]}
Mensuration Capabilities: Basic
Has Histograms: true
Has Colormap: false
Has Multi Dimensions : false
Rendering Rule:
Min Scale: 0
Max Scale: 0
Copyright Text:
Service Data Type: esriImageServiceDataTypeGeneric
Min Values: 1066, 308, 146, 1, 188, 17, 32, 81, 1, 1, 1, 0, 0
Max Values: 4758, 12437, 11242, 14252, 7254, 7451, 7816, 13337, 7776, 2006, 88, 8097, 17583
Mean Values: 1374.0241068962364, 1101.5307626381548, 918.6033257184382, 605.5269387763684, 832.5889429314736, 1501.0476796288112, 1790.96845177382, 1755.3111402938143, 2044.5703539072847, 460.53298003979086, 9.717694721594874, 1479.2277178339482, 735.4350828436158
Standard Deviation Values: 245.27404957029256, 329.0229150618116, 305.0682111881684, 352.87248288494146, 418.09466370054804, 788.7726495689088, 973.5983107491231, 979.1001675728847, 1154.702970452459, 244.31149149469914, 2.5691033396832808, 936.004659236329, 537.2906632739617
Object ID Field:
Fields:
None
Default Mosaic Method: Center
Allowed Mosaic Methods:
SortField:
SortValue: null
Mosaic Operator: First
Default Compression Quality: 75
Default Resampling Method: Nearest
Max Record Count: null
Max Image Height: 4100
Max Image Width: 15000
Max Download Image Count: null
Max Mosaic Image Count: null
Allow Raster Function: true
Allow Copy: true
Allow Analysis: true
Allow Compute TiePoints: false
Supports Statistics: false
Supports Advanced Queries: false
Use StandardizedQueries: true
Raster Type Infos:
Name: Raster Dataset
Description: Compatible con todos los datasets de rĂ¡steres de ArcGIS
Help:
Has Raster Attribute Table: false
Edit Fields Info: null
Ownership Based AccessControl For Rasters: null
Child Resources:
Info
Histograms
Statistics
Key Properties
Legend
Raster Function Infos
Supported Operations:
Export Image
Identify
Compute Histograms
Compute Statistics Histograms
Get Samples
Compute Class Statistics
Query Boundary
Compute Pixel Location
Compute Angles
Validate
Project