View In:
ArcGIS JavaScript
ArcGIS Online Map Viewer
ArcGIS Earth
ArcMap
View Footprint In:
ArcGIS Online Map Viewer
Service Description: Hosted/Sentinel2_1C_01252017
Name: Hosted/Sentinel2_1C_01252017
Description:
Single Fused Map Cache: true
Tile Info:
- Height: 256
- Width: 256
- DPI: 96
-
Levels of Detail: 7
- Format: LERC2D
- Compression Quality: 100000.0
- LERC Error: 0.1
- Origin: X: -1.000753066239278E7
Y: 2474732.443413151
- Spatial Reference: 102100
(3857)
Storage Info:
- Storage Format: esriMapCacheStorageModeCompactV2
- Packet Size: 8
Extent:
XMin: -1.000753066239278E7
YMin: 2354622.443413151
XMax: -9888110.66239278
YMax: 2474732.443413151
Spatial Reference: 102100
(3857)
Initial Extent:
XMin: -1.000753066239278E7
YMin: 2354622.443413151
XMax: -9888110.66239278
YMax: 2474732.443413151
Spatial Reference: 102100
(3857)
Full Extent:
XMin: -1.000753066239278E7
YMin: 2354622.443413151
XMax: -9888110.66239278
YMax: 2474732.443413151
Spatial Reference: 102100
(3857)
Pixel Size X: 10.0
Pixel Size Y: 10.0
Band Count: 13
Pixel Type: U16
RasterFunction Infos: {"rasterFunctionInfos": [{
"name": "None",
"description": "",
"help": ""
}]}
Mensuration Capabilities: Basic
Has Histograms: true
Has Colormap: false
Has Multi Dimensions : false
Rendering Rule:
Min Scale: 0
Max Scale: 0
Copyright Text:
Service Data Type: esriImageServiceDataTypeGeneric
Min Values: 0, 698, 0, 0, 0, 0, 0, 0, 0, 0, 0, 0, 0
Max Values: 4965, 11816, 11348, 11943, 7525, 7963, 8289, 12539, 8335, 2110, 136, 10543, 18156
Mean Values: 1360.2482233486935, 1103.0099917286027, 941.2862006460743, 644.5366630510333, 880.0814956605919, 1518.2885389378037, 1789.3239775585055, 1794.3729057087355, 2033.8236549528976, 687.6933495347373, 9.793867313192877, 1603.7500038237033, 854.3309007552792
Standard Deviation Values: 218.2057510152087, 300.3216869639194, 287.6545582855146, 355.78877651360347, 437.0059164081393, 835.7392743697544, 1019.5950525996733, 1041.2667727073704, 1187.4425009724985, 384.0255836043262, 2.8763082257290282, 1011.7208903391162, 609.877359121097
Object ID Field:
Fields:
None
Default Mosaic Method: Center
Allowed Mosaic Methods:
SortField:
SortValue: null
Mosaic Operator: First
Default Compression Quality: 75
Default Resampling Method: Nearest
Max Record Count: null
Max Image Height: 4100
Max Image Width: 15000
Max Download Image Count: null
Max Mosaic Image Count: null
Allow Raster Function: true
Allow Copy: true
Allow Analysis: true
Allow Compute TiePoints: false
Supports Statistics: false
Supports Advanced Queries: false
Use StandardizedQueries: true
Raster Type Infos:
Name: Raster Dataset
Description: Compatible con todos los datasets de rĂ¡steres de ArcGIS
Help:
Has Raster Attribute Table: false
Edit Fields Info: null
Ownership Based AccessControl For Rasters: null
Child Resources:
Info
Histograms
Statistics
Key Properties
Legend
Raster Function Infos
Supported Operations:
Export Image
Identify
Compute Histograms
Compute Statistics Histograms
Get Samples
Compute Class Statistics
Query Boundary
Compute Pixel Location
Compute Angles
Validate
Project