View In:
ArcGIS JavaScript
ArcGIS Online Map Viewer
ArcGIS Earth
ArcMap
View Footprint In:
ArcGIS Online Map Viewer
Service Description: Hosted/Sentinel2_Multispectral_All_CDMX_010422
Name: Hosted/Sentinel2_Multispectral_All_CDMX_010422
Description:
Single Fused Map Cache: true
Tile Info:
- Height: 256
- Width: 256
- DPI: 96
-
Levels of Detail: 7
- Format: LERC2D
- Compression Quality: 100000.0
- LERC Error: 0.1
- Origin: X: -1.1127015881670604E7
Y: 2260765.325713509
- Spatial Reference: 102100
(3857)
Storage Info:
- Storage Format: esriMapCacheStorageModeCompactV2
- Packet Size: 8
Extent:
XMin: -1.1127015881670604E7
YMin: 2143365.325713509
XMax: -1.1010245881670604E7
YMax: 2260765.325713509
Spatial Reference: 102100
(3857)
Initial Extent:
XMin: -1.1127015881670604E7
YMin: 2143365.325713509
XMax: -1.1010245881670604E7
YMax: 2260765.325713509
Spatial Reference: 102100
(3857)
Full Extent:
XMin: -1.1127015881670604E7
YMin: 2143365.325713509
XMax: -1.1010245881670604E7
YMax: 2260765.325713509
Spatial Reference: 102100
(3857)
Pixel Size X: 10.0
Pixel Size Y: 10.0
Band Count: 13
Pixel Type: U16
RasterFunction Infos: {"rasterFunctionInfos": [{
"name": "None",
"description": "",
"help": ""
}]}
Mensuration Capabilities: Basic
Has Histograms: true
Has Colormap: false
Has Multi Dimensions : false
Rendering Rule:
Min Scale: 0
Max Scale: 0
Copyright Text:
Service Data Type: esriImageServiceDataTypeGeneric
Min Values: 1701, 958, 822, 542, 756, 974, 1102, 398, 0, 962, 1005, 1047, 906
Max Values: 9186, 20718, 20854, 22008, 22794, 25440, 28000, 24516, 28002, 8540, 1249, 16175, 16254
Mean Values: 2262.3348868745693, 2148.095064082768, 2162.1610231863274, 2309.125084538318, 2532.177615275984, 2974.684137125502, 3190.781720504951, 3205.5864150928683, 3391.6363978672034, 2293.8227355968224, 1032.4584303686759, 3431.5933903930168, 2797.4697352545577
Standard Deviation Values: 274.49231019258883, 369.0320026852143, 419.3983682602265, 595.2559360070326, 536.1025287081101, 454.489502386145, 496.07275093612014, 527.9977442231753, 537.8851994902186, 292.3657986333552, 19.95412953490881, 819.5352269053324, 781.3220506715228
Object ID Field:
Fields:
None
Default Mosaic Method: Center
Allowed Mosaic Methods:
SortField:
SortValue: null
Mosaic Operator: First
Default Compression Quality: 75
Default Resampling Method: Nearest
Max Record Count: null
Max Image Height: 4100
Max Image Width: 15000
Max Download Image Count: null
Max Mosaic Image Count: null
Allow Raster Function: true
Allow Copy: true
Allow Analysis: true
Allow Compute TiePoints: false
Supports Statistics: false
Supports Advanced Queries: false
Use StandardizedQueries: true
Raster Type Infos:
Name: Raster Dataset
Description: Compatible con todos los datasets de rĂ¡steres de ArcGIS
Help:
Has Raster Attribute Table: false
Edit Fields Info: null
Ownership Based AccessControl For Rasters: null
Child Resources:
Info
Histograms
Statistics
Key Properties
Legend
Raster Function Infos
Supported Operations:
Export Image
Identify
Compute Histograms
Compute Statistics Histograms
Get Samples
Compute Class Statistics
Query Boundary
Compute Pixel Location
Compute Angles
Validate
Project