View In:
ArcGIS JavaScript
ArcGIS Online Map Viewer
ArcGIS Earth
ArcMap
View Footprint In:
ArcGIS Online Map Viewer
Service Description: Hosted/Sentinel2_Multispectral_All_CDMX_020416
Name: Hosted/Sentinel2_Multispectral_All_CDMX_020416
Description:
Single Fused Map Cache: true
Tile Info:
- Height: 256
- Width: 256
- DPI: 96
-
Levels of Detail: 7
- Format: LERC2D
- Compression Quality: 100000.0
- LERC Error: 0.1
- Origin: X: -1.1127015881670604E7
Y: 2260765.325713509
- Spatial Reference: 102100
(3857)
Storage Info:
- Storage Format: esriMapCacheStorageModeCompactV2
- Packet Size: 8
Extent:
XMin: -1.1127015881670604E7
YMin: 2143365.325713509
XMax: -1.1010245881670604E7
YMax: 2260765.325713509
Spatial Reference: 102100
(3857)
Initial Extent:
XMin: -1.1127015881670604E7
YMin: 2143365.325713509
XMax: -1.1010245881670604E7
YMax: 2260765.325713509
Spatial Reference: 102100
(3857)
Full Extent:
XMin: -1.1127015881670604E7
YMin: 2143365.325713509
XMax: -1.1010245881670604E7
YMax: 2260765.325713509
Spatial Reference: 102100
(3857)
Pixel Size X: 10.0
Pixel Size Y: 10.0
Band Count: 13
Pixel Type: U16
RasterFunction Infos: {"rasterFunctionInfos": [{
"name": "None",
"description": "",
"help": ""
}]}
Mensuration Capabilities: Basic
Has Histograms: true
Has Colormap: false
Has Multi Dimensions : false
Rendering Rule:
Min Scale: 0
Max Scale: 0
Copyright Text:
Service Data Type: esriImageServiceDataTypeGeneric
Min Values: 439, 1, 1, 1, 1, 0, 0, 143, 1, 1, 1, 38, 0
Max Values: 14764, 20057, 19950, 22399, 20958, 24223, 28001, 22688, 28001, 9364, 461, 16132, 15434
Mean Values: 1240.7017058905408, 1125.2397926067513, 1142.0389750003546, 1257.0165439476157, 1477.9558753047195, 1952.5414866755928, 2175.9716103149167, 2172.375198856436, 2379.344739796978, 1120.2189740007025, 22.92497468526615, 2401.3749134077616, 1768.804445669408
Standard Deviation Values: 287.70580004644546, 369.5544673764878, 413.2187826306339, 573.8832299832085, 502.55612341225424, 433.95941333749823, 479.4251791860741, 505.68441860359366, 520.2610711956555, 229.5323385595343, 22.279573903175276, 787.4159062901806, 757.6736504014501
Object ID Field:
Fields:
None
Default Mosaic Method: Center
Allowed Mosaic Methods:
SortField:
SortValue: null
Mosaic Operator: First
Default Compression Quality: 75
Default Resampling Method: Nearest
Max Record Count: null
Max Image Height: 4100
Max Image Width: 15000
Max Download Image Count: null
Max Mosaic Image Count: null
Allow Raster Function: true
Allow Copy: true
Allow Analysis: true
Allow Compute TiePoints: false
Supports Statistics: false
Supports Advanced Queries: false
Use StandardizedQueries: true
Raster Type Infos:
Name: Raster Dataset
Description: Compatible con todos los datasets de rĂ¡steres de ArcGIS
Help:
Has Raster Attribute Table: false
Edit Fields Info: null
Ownership Based AccessControl For Rasters: null
Child Resources:
Info
Histograms
Statistics
Key Properties
Legend
Raster Function Infos
Supported Operations:
Export Image
Identify
Compute Histograms
Compute Statistics Histograms
Get Samples
Compute Class Statistics
Query Boundary
Compute Pixel Location
Compute Angles
Validate
Project