View In:
ArcGIS JavaScript
ArcGIS Online Map Viewer
ArcGIS Earth
ArcMap
View Footprint In:
ArcGIS Online Map Viewer
Service Description: Imagery/Pueb_R1
Name: Imagery/Pueb_R1
Description:
Single Fused Map Cache: false
Extent:
XMin: 584764.6897724392
YMin: 2106436.2376215244
XMax: 585265.1897724392
YMax: 2106774.230260722
Spatial Reference: 32614
(32614)
Initial Extent:
XMin: 584764.6897724392
YMin: 2106436.2376215244
XMax: 585265.1897724392
YMax: 2106774.230260722
Spatial Reference: 32614
(32614)
Full Extent:
XMin: 584764.6897724392
YMin: 2106436.2376215244
XMax: 585265.1897724392
YMax: 2106774.230260722
Spatial Reference: 32614
(32614)
Pixel Size X: 0.5
Pixel Size Y: 0.4999891112389087
Band Count: 3
Pixel Type: U8
RasterFunction Infos: {"rasterFunctionInfos": [{
"name": "None",
"description": "",
"help": ""
}]}
Mensuration Capabilities: Basic
Has Histograms: true
Has Colormap: false
Has Multi Dimensions : false
Rendering Rule:
Min Scale: 0
Max Scale: 0
Copyright Text:
Service Data Type: esriImageServiceDataTypeRGB
Min Values: 3, 44, 21
Max Values: 247, 255, 255
Mean Values: 122.34294403821, 130.31040261513, 128.74475228913
Standard Deviation Values: 29.954702510475, 25.301151724548, 26.538034144202
Object ID Field:
Fields:
None
Default Mosaic Method: Center
Allowed Mosaic Methods:
SortField:
SortValue: null
Mosaic Operator: First
Default Compression Quality: 75
Default Resampling Method: Bilinear
Max Record Count: null
Max Image Height: 4100
Max Image Width: 15000
Max Download Image Count: null
Max Mosaic Image Count: null
Allow Raster Function: true
Allow Copy: true
Allow Analysis: true
Allow Compute TiePoints: false
Supports Statistics: false
Supports Advanced Queries: false
Use StandardizedQueries: true
Raster Type Infos:
Name: Raster Dataset
Description: Compatible con todos los datasets de rĂ¡steres de ArcGIS
Help:
Has Raster Attribute Table: false
Edit Fields Info: null
Ownership Based AccessControl For Rasters: null
Child Resources:
Info
Histograms
Statistics
Key Properties
Legend
Raster Function Infos
Supported Operations:
Export Image
Identify
Measure
Compute Histograms
Compute Statistics Histograms
Get Samples
Compute Class Statistics
Query Boundary
Compute Pixel Location
Compute Angles
Validate
Project